BEGIN:VCALENDAR
VERSION:2.0
PRODID:-//Associazione AIFA - ECPv6.15.20//NONSGML v1.0//EN
CALSCALE:GREGORIAN
METHOD:PUBLISH
X-WR-CALNAME:Associazione AIFA
X-ORIGINAL-URL:https://www.associazioneaifa.it
X-WR-CALDESC:Eventi per Associazione AIFA
REFRESH-INTERVAL;VALUE=DURATION:PT1H
X-Robots-Tag:noindex
X-PUBLISHED-TTL:PT1H
BEGIN:VTIMEZONE
TZID:Europe/Rome
BEGIN:DAYLIGHT
TZOFFSETFROM:+0100
TZOFFSETTO:+0200
TZNAME:CEST
DTSTART:20220327T010000
END:DAYLIGHT
BEGIN:STANDARD
TZOFFSETFROM:+0200
TZOFFSETTO:+0100
TZNAME:CET
DTSTART:20221030T010000
END:STANDARD
BEGIN:DAYLIGHT
TZOFFSETFROM:+0100
TZOFFSETTO:+0200
TZNAME:CEST
DTSTART:20230326T010000
END:DAYLIGHT
BEGIN:STANDARD
TZOFFSETFROM:+0200
TZOFFSETTO:+0100
TZNAME:CET
DTSTART:20231029T010000
END:STANDARD
BEGIN:DAYLIGHT
TZOFFSETFROM:+0100
TZOFFSETTO:+0200
TZNAME:CEST
DTSTART:20240331T010000
END:DAYLIGHT
BEGIN:STANDARD
TZOFFSETFROM:+0200
TZOFFSETTO:+0100
TZNAME:CET
DTSTART:20241027T010000
END:STANDARD
END:VTIMEZONE
BEGIN:VEVENT
DTSTART;TZID=Europe/Rome:20231111T103000
DTEND;TZID=Europe/Rome:20231111T123000
DTSTAMP:20260421T200108
CREATED:20231015T174047Z
LAST-MODIFIED:20231015T174047Z
UID:15312-1699698600-1699705800@www.associazioneaifa.it
SUMMARY:ADHD: Disturbo da Deficit di Attenzione e Iperattività – nella scuola e nella vita
DESCRIPTION:BELPASSO (CT). 11 novembre 2023. “ADHD: Disturbo da Deficit di Attenzione e Iperattività – nella scuola e nella vita” è un seminario informativo organizzato da AIFA APS\, Associazione Italiana Famiglie ADHD\, dalle 10.30 alle 12.30 presso il Teatro Nino Martoglio in via XII Traversa 95\, a Belpasso in provincia di Catania. \nSaluti istituzionali: Carlo Caputo\, Sindaco del Comune di Belpasso e Anna Spampinato\, Dirigente Scolastico Istituto di Istruzione Secondaria di I grado Nino Martoglio. \nRelatori: Giancarlo Costanza\, Neuropsichiatra dell’Infanzia e dell’Adolescenza\, Responsabile Centro Riferimento ADHD Asp di Catania; Sebi Barbagallo\, Psicologo Scolastico\, Psicoterapeuta\, e Anna Maria Malgiolio\, Docente Esperta in Neuropsicopatologia dell’Apprendimento \nProgramma: \n\nAccoglienza e breve introduzione\nADHD: che cos’è e come riconoscerlo\nADHD nella vita quotidiana\nADHD nella scuola: strategie nel contesto classe\n\nL’iniziativa\, ad ingresso libero\, ha il patrocinio del Comune di Belpasso e dell’Istituto di Istruzione Secondaria di I grado Nino Martoglio. \nPer informazioni:\nGabriella Raimondi\, cel. +39 338 907 1346\nreferente.catania2@associazioneaifa.it \n\nScarica la locandina
URL:https://www.associazioneaifa.it/evento/adhd-disturbo-da-deficit-di-attenzione-e-iperattivita-nella-scuola-e-nella-vita/
LOCATION:Teatro Nino Martoglio\, via XII Traversa\, 95\, Belpasso\, Catania\, Italia
CATEGORIES:AIFA APS
ATTACH;FMTTYPE=image/jpeg:https://www.associazioneaifa.it/wp-content/uploads/2023/10/people-2557399_1280.jpg
END:VEVENT
BEGIN:VEVENT
DTSTART;TZID=Europe/Rome:20231115T180000
DTEND;TZID=Europe/Rome:20231115T200000
DTSTAMP:20260421T200108
CREATED:20231105T152431Z
LAST-MODIFIED:20231105T152431Z
UID:15470-1700071200-1700078400@www.associazioneaifa.it
SUMMARY:Modena – Vivere bene con l’ADHD
DESCRIPTION:MODENA. 15 novembre 2023. Nell’ambito del progetto I Ragazzi non sono più quelli di una volta\, con il patrocinio del Comune di Modena e ospitato all’interno della Casa delle Culture – Via Wiligelmo\, 80 Modena (https://tinyurl.com/yy9v8hmt)\, si svolgerà il secondo incontro organizzato in collaborazione con AIFA APS – Associazione Italiana famiglie ADHD e il Gruppo Clinico e di Ricerca ADHD rivolto a insegnanti\, genitori\, medici\, psicologi\, persone ADHD\, datori di lavoro e a tutti gli interessati ad approfondire conoscenze\, risorse\, realtà e differenze. \nVivere bene con l’ADHD – La persona ADHD. Caratteristiche\, difficoltà\, bisogni\, risorse. Risposte sociali e inclusione. Le esperienze delle famiglie e dei ragazzi ADHD. Incontro con le referenti Anna Maria Cava e Ilenia Nanni\, dell’associazione AIFA APS – Associazione Italiana Famiglie ADHD. \nPsicoeducazione per giovani – Presentazione del progetto di incontri che saranno tenuti dalle dottoresse di GCR – Gruppo Clinico e di Ricerca ADHD.  \nInfo e prenotazioni 3882473964 – casaculturemoadhd@gmail.com \n\nScarica la locandina
URL:https://www.associazioneaifa.it/evento/modena-vivere-bene-con-ladhd/
LOCATION:Casa delle Culture\, Via Wiligelmo\, 80\, Modena
CATEGORIES:AIFA APS
ATTACH;FMTTYPE=image/jpeg:https://www.associazioneaifa.it/wp-content/uploads/2023/09/pexels-helena-lopes-708392.jpg
END:VEVENT
BEGIN:VEVENT
DTSTART;TZID=Europe/Rome:20231119T113000
DTEND;TZID=Europe/Rome:20231119T123000
DTSTAMP:20260421T200108
CREATED:20231105T152011Z
LAST-MODIFIED:20231105T152011Z
UID:15465-1700393400-1700397000@www.associazioneaifa.it
SUMMARY:ADHD: a scuola e nella vita
DESCRIPTION:TRIESTE. 19 novembre 2023. “ADHD – Disturbo da Deficit di Attenzione/Iperattività: a scuola e nella vita”. \nIl gruppo referenti di AIFA APS – Associazione Italiana Famiglie ADHD del Friuli Venezia Giulia\, partecipa alla festa Diritti & Storti dalle ore 11.30 alle ore 12.30 presso la Sala Blu del Mini Mu Museo dei bambini al Parco di San Giovanni\, in via Edoardo Weiss\, 15. \nIn occasione della Giornata internazionale per i diritti dell’infanzia e dell’adolescenza\, sarà possibile partecipare a laboratori\, momenti ludici e interventi di formazione. \nPer informazioni rivolgersi a:\nPavlina Dyulgerova\, cel. +39 388 881 6790\nreferente.friuliveneziagiulia@associazioneaifa.it \nPaola Forte\, cel. +39 347 787 5643\nreferente.trieste1@associazioneaifa.it \n\nScarica la locandina
URL:https://www.associazioneaifa.it/evento/adhd-a-scuola-e-nella-vita/
LOCATION:Parco di San Giovanni\, in via Edoardo Weiss\, 15\, Trieste\, Italia
CATEGORIES:AIFA APS
ATTACH;FMTTYPE=image/jpeg:https://www.associazioneaifa.it/wp-content/uploads/2023/11/pexels-yan-krukau-8613319.jpg
END:VEVENT
BEGIN:VEVENT
DTSTART;TZID=Europe/Rome:20231125T090000
DTEND;TZID=Europe/Rome:20231125T180000
DTSTAMP:20260421T200108
CREATED:20231105T151534Z
LAST-MODIFIED:20231105T151534Z
UID:15461-1700902800-1700935200@www.associazioneaifa.it
SUMMARY:I disturbi specifici dell’apprendimento e deficit dell’attenzione: nuove sinergie tra ricerca\, aspetti diagnostici e applicativi
DESCRIPTION:TRIESTE. 25 novembre 2023. “I disturbi specifici dell’apprendimento e deficit dell’attenzione: nuove sinergie tra ricerca\, aspetti diagnostici e applicativi” è il titolo del corso formativo organizzato da AIRIPA FVG – Associazione Italiana per la Ricerca e l’intervento nella Psicopatologia dell’apprendimento – e l’Università degli Studi di Trieste – Dipartimento Scienze della Vita\, con il patrocinio di AIDAI FVG – Associazione Italiana per i Disturbi di Attenzione e Iperattività\, di AIFA APS – Associazione Italiana Famiglie ADHD e con la collaborazione dell’IRCCS Burlo Garofolo di Trieste. \nIl corso si svolgerà in presenza sabato 25 novembre dalle ore 9.00 alle ore 18.00 presso l’Aula magna H3\, Università degli studi di Trieste. \nProgramma: \n\n9.00 Registrazione partecipanti\n9.15 Saluti delle autorità\nIntroduzione ai lavori – Maria Chiara Passolunghi e Maria Grazia Lamparelli;\n9.30 L’Elefante in classe. È così difficile riconoscere l’ADHD? – Aldo Skabar\, neurologo\, Dirigente medico\, Struttura complessa di neuropsichiatria infantile IRCCS Burlo Garofolo;\n10.30 Comorbidità\, linea guida sulla gestione dei disturbi specifici dell’apprendimento e PDP\, piano didattico personalizzato – Cristiano Termine\, neuropsichiatra infantile\, professore associato Università dell’Insubria\, Socio AIRIPA;\n11.00 Pausa\n11.20 Disturbi d’attenzione-iperattività e sport – Daniele Fedeli\, professore associato\, Università degli studi di Udine\, Socio AIRIPA;\n12.00 In classe: cosa posso fare con un alunno/alunna in difficoltà? – Marta Vidoz\, psicologa-psicoterapeuta\, Coordinamento AIRIPA FVG;\n12.30 L’esperto risponde… – Coordinamento AIRIPA FVG;\n13.00 Pausa pranzo\n14.00 Identificazione precoce dei disturbi del neurosviluppo: dagli strumenti carta e penna alle nuove tecnologie – Cristiano Termine;\n15.00 Buone prassi e progetti sul territorio: dalla scuola primaria all’università (Maria Chiara Passolunghi\, professoressa ordinaria UNITS\, Valentina Beorchia\, Elena Bortolotti\, Sandra Pellizzoni\, professoresse associate UNITS; Isabella Lonciari\, dirigente psicologo\, Struttura complessa di neuropsichiatria infantile IRCCS Burlo Garofolo);\n16.00 – 17.00 Le associazioni si presentano\, AIRIPA\, AIFA APS\, AIDAI FVG\, AID Pordenone. \n\nDestinatari: studenti\, docenti di ordine ogni ordine e grado\, educatori e tutor scolastici.  \nCosto: Il costo del corso è di 30 € (gratuito per affiliati e soci AIRIPA).  \nFormazione valida ai fini del bonus Carta docenti (L.107/2015).  \nModalità di iscrizione: Compilare la procedura on-line al seguente link: https://bit.ly/corso-airipa \nAl momento dell’iscrizione verrà chiesto di allegare la ricevuta del pagamento\, il quale può avvenire secondo 2 modalità: \n\nattraverso CARTA DOCENTE (buono di tipo fisico)\nattraverso BONIFICO BANCARIO.\nCoordinate bancarie: AIRIPA – Banca Popolare Etica sede di Padova\nIBAN: IT51N0501812101000011736238\nCausale: ISCRIZIONE AL CORSO AM140 “NOME COGNOME DELL’ISCRITTO”\n\nIscrizione entro venerdì 18 novembre 2023. \nPer maggiori informazioni: fvg@airipa.it\nSegreteria\, Alessandro La Neve: +39 329 826 179 \n\nScarica la locandina
URL:https://www.associazioneaifa.it/evento/i-disturbi-specifici-dellapprendimento-e-deficit-dellattenzione/
LOCATION:Università degli studi di Trieste\, Piazzale Europa\, 1\, Trieste\, Italy
CATEGORIES:AIFA APS
ATTACH;FMTTYPE=image/jpeg:https://www.associazioneaifa.it/wp-content/uploads/2023/11/teach-1968076_1280.jpg
END:VEVENT
END:VCALENDAR