BEGIN:VCALENDAR
VERSION:2.0
PRODID:-//Associazione AIFA - ECPv6.15.20//NONSGML v1.0//EN
CALSCALE:GREGORIAN
METHOD:PUBLISH
X-WR-CALNAME:Associazione AIFA
X-ORIGINAL-URL:https://www.associazioneaifa.it
X-WR-CALDESC:Eventi per Associazione AIFA
REFRESH-INTERVAL;VALUE=DURATION:PT1H
X-Robots-Tag:noindex
X-PUBLISHED-TTL:PT1H
BEGIN:VTIMEZONE
TZID:Europe/Rome
BEGIN:DAYLIGHT
TZOFFSETFROM:+0100
TZOFFSETTO:+0200
TZNAME:CEST
DTSTART:20220327T010000
END:DAYLIGHT
BEGIN:STANDARD
TZOFFSETFROM:+0200
TZOFFSETTO:+0100
TZNAME:CET
DTSTART:20221030T010000
END:STANDARD
BEGIN:DAYLIGHT
TZOFFSETFROM:+0100
TZOFFSETTO:+0200
TZNAME:CEST
DTSTART:20230326T010000
END:DAYLIGHT
BEGIN:STANDARD
TZOFFSETFROM:+0200
TZOFFSETTO:+0100
TZNAME:CET
DTSTART:20231029T010000
END:STANDARD
BEGIN:DAYLIGHT
TZOFFSETFROM:+0100
TZOFFSETTO:+0200
TZNAME:CEST
DTSTART:20240331T010000
END:DAYLIGHT
BEGIN:STANDARD
TZOFFSETFROM:+0200
TZOFFSETTO:+0100
TZNAME:CET
DTSTART:20241027T010000
END:STANDARD
END:VTIMEZONE
BEGIN:VEVENT
DTSTART;TZID=Europe/Rome:20231005T150000
DTEND;TZID=Europe/Rome:20231005T190000
DTSTAMP:20260421T194824
CREATED:20230915T182144Z
LAST-MODIFIED:20231007T094516Z
UID:15154-1696518000-1696532400@www.associazioneaifa.it
SUMMARY:Attenti all’ADHD
DESCRIPTION:Attenti all’ADHD\n\nPERUGIA. 5 ottobre 2023. “Attenti all’ADHD\, Il Disturbo da Deficit di Attenzione/Iperattività all’università” è il convegno organizzato dall’Università degli Studi di Perugia (https://www.unipg.it/eventi?day=2023-10-05) in collaborazione con AIFA APS\, Associazione Italiana Famiglie ADHD\, alle ore 15.00 presso il Rettorato\, in piazza dell’Università\, 1. \nProgramma: \n\nore 15:00 Saluti delle autorità MAURIZIO OLIVIERO – Rettore Università degli Studi di Perugia; PATRIZIA STACCONI – Presidente Nazionale Associazione Italiana Famiglie ADHD (AIFA APS)\nore 15:15 MARIA GIOVANNA FERRERA – Studentessa Università degli Studi di Perugia: L’ADHD non scompare a diciott’anni: conviverci in un mondo tipico\, tra vincoli e possibilità e complessità\nore 15:25 PIETRO DE ROSSI – Psichiatra\, UOC Neuropsichiatria dell’Infanzia e dell’Adolescenza\, Ospedale Pediatrico Bambino Gesù di Roma e Membro dello European Network Adult ADHD: L’ADHD dall’infanzia all’età adulta\nore 16:10 CLAUDIA MAZZESCHI – Ordinaria di Psicologia dinamica\, Università degli Studi di Perugia: Autostima – Impulsività – Difficoltà di autoregolazione\nore 16:45 DANIELE ROSELLINI – Referente di Ateneo per la disabilità e i DSA: Il protocollo UNIPG – AIFA APS\nore 16:55 MOIRA SANNIPOLI – Associata di Didattica e Pedagogia Speciale\, Università degli Studi di Perugia: Costruire prassi inclusive: riconoscere e non elemosinare\nore 17:05 CHIARA PISTECCHIA – Studentessa Università degli Studi di Perugia: ADHD: una diagnosi come occasione per evolvere ore\n17:15 ALFONSO ANTONIO VINCENZO TORTORELLA – Responsabile Sezione di Psichiatria\, Psicologia Clinica e Riabilitazione Psichiatrica – Dipartimento di Medicina e Chirurgia – Università degli Studi di Perugia: ADHD e Dipendenze\nore 17:35 MARIA PIA SERLUPINI – Già Garante dell’Infanzia e dell’Adolescenza della Regione Umbria: L’importanza del lavoro in rete nella costruzione di prese in carico integrate\nore 17:50 PAOLO DE LUCA – Referente per l’Umbria dell’Associazione Italiana Famiglie ADHD – AIFA APS: L’ADHD in Umbria. Casi attesi\, ed il lungo cammino perché il disturbo possa trovare cittadinanza\nore 18:00 Sessione di domande e risposte\, modera MARIO TOSTI – Delegato del Rettore per il settore Umane Risorse – Università degli Studi di Perugia\n\n\nScarica la locandina
URL:https://www.associazioneaifa.it/evento/attenti-alladhd/
LOCATION:Rettorato\, Piazza dell’Università\, 1\, Perugia\, Italia
CATEGORIES:AIFA APS
ATTACH;FMTTYPE=image/jpeg:https://www.associazioneaifa.it/wp-content/uploads/2023/09/Attenti-allADHD-gigapixel-hq-width-1920px.jpg
END:VEVENT
BEGIN:VEVENT
DTSTART;TZID=Europe/Rome:20231014T093000
DTEND;TZID=Europe/Rome:20231014T130000
DTSTAMP:20260421T194824
CREATED:20231007T141927Z
LAST-MODIFIED:20231007T141927Z
UID:15238-1697275800-1697288400@www.associazioneaifa.it
SUMMARY:Insieme oltre ogni ostacolo
DESCRIPTION:FROSINONE. Sabato 14 ottobre 2023. \n“Insieme oltre ogni ostacolo“. Sport e disabilità intellettiva relazionale. Un ponte tra le persone. Sfide nella società di oggi\, è il convegno organizzato dalla Polisportiva Anche Noi ASD dalle 9.30 alle 13.00 presso il Comune di Frosinone\, Sala Consiliare di Palazzo Munari in via del Plebiscito. \nIl Programma. Saluti istituzionali di: Riccardo Mastrangelo\, Sindaco di Frosinone; Francesco Pallone\, Delegato allo Sport Comune di Frosinone; Fabio Tagliaferri\, Assessore Servizi Sociali e Welfare Comune di Frosinone; Piergiorgio Fascina Delegato FIPIC Lazio; Eliseo Ferrante Delegato provinciale CIP. \nIntroduzione: Annalisa Silenzi\, Presidente Polisportiva ANCHE NOI ASD e Istruttore Tecnico Atletica FISDIR. \nRelatori: Giancarlo Marcoccia\, Direttore Tecnico FISDIR; Giovanni Marcoccia\, Tecnico Allenatore Atletica Leggera FISDIR; Roberto Cavanna\, Delegato Regionale Lazio e Allenatore Nazionale Nuoto FISDIR; Luciano De Santis\, Referente Tecnico Equitazione FISDIR; Luca Ferragni\, Referente Tecnico Pallavolo FISDIR; Francesca Mezzelani\, Referente Roma Associazione Italiana Famiglie ADHD. \nSeguirà un dibattito interattivo con la partecipazione di atleti promozionali e agonisti FISDIR moderato da Alessia Del Sette e Paolo Di Rienzo. \n\nScarica la locandina
URL:https://www.associazioneaifa.it/evento/insieme-oltre-ogni-ostacolo/
LOCATION:Sala Consiliare di Palazzo Munari\, via del Plebiscito\, Frosinone\, Italia
CATEGORIES:AIFA APS
ATTACH;FMTTYPE=image/jpeg:https://www.associazioneaifa.it/wp-content/uploads/2023/10/pexels-andrea-piacquadio-3763878.jpg
END:VEVENT
BEGIN:VEVENT
DTSTART;TZID=Europe/Rome:20231020T090000
DTEND;TZID=Europe/Rome:20231020T160000
DTSTAMP:20260421T194824
CREATED:20231015T164526Z
LAST-MODIFIED:20231015T165812Z
UID:15288-1697792400-1697817600@www.associazioneaifa.it
SUMMARY:Costellazioni dell’ADHD
DESCRIPTION:CATANIA. 20/10/2023. “Costellazioni dell’ADHD” è il Settimo Workshop regionale sull’ADHD di SINPIA Sicilia\, Società Italiana di Neuropsichiatria dell’Infanzia e dell’Adolescenza\, in programma il 20 ottobre 2023 presso la sede del Polo Culturale “Giovanni Verga” a Sant’Agata Li Battiati in provincia di Catania\, con il patrocinio gratuito del Comune e della Società Italiana di Psichiatria. L’inizio dei lavori è alle ore 9:00. \nIl tema del Workshop verterà sulle forme atipiche e sulle varianti cliniche del ADHD\, Disturbo da Deficit di Attenzione/Iperattività. \nProgramma: \n\nSaluti istituzionali ed introduzione di Giancarlo Costanza\, Coord. GDS SINPIA Resp. GDL ADHD e CD ASP Catania.\nLo spettro ADHD/ASD: Elisabetta Marzullo\, UONPIA Acireale ASP Catania e Valentina Sanfilippo UOC D.S.A. ASP Palermo.\nADHD nel genere femminile: Sara Carucci\, Università di Cagliari.\nSluggish Cognitive Tempo: Antonella Gagliano\, Università di Messina.\nADHD nell’adulto: Clemente Cedro\, Università di Messina\n\nA seguire si svolgerà una tavola rotonda che affronterà l’organizzazione dei Servizi\, la transizione verso l’età adulta e la risposta ai bisogni degli stakeholders negli ambiti di vita ed interverranno: Carmelo Florio Direttore del Dipartimento di  Salute Mentale di Catania;  Giovanni Rapisarda\, Direttore ff della UOC NPIA territoriale Asp Catania; Patrizia Stacconi\, Presidente AIFA APS\, Associazione Italiana Famiglie ADHD; Orazio Arancio; Dirigente sportivo CONI; Sebastiano Scalisi\, Presidente Società Galatea di Hockey; Maria Grazia Figura\, IRCSS OASI di Troina; Giuseppe Mustile\, SerD Vittoria Asp Ragusa ed un rappresentante dell’Ufficio Scolastico Provinciale di Catania. \n\nScarica la locandina
URL:https://www.associazioneaifa.it/evento/costellazioni-delladhd/
LOCATION:Polo Culturale “Giovanni Verga”\, Sant’Agata Li Battiati\, Catania\, Italia
CATEGORIES:AIFA APS
ATTACH;FMTTYPE=image/jpeg:https://www.associazioneaifa.it/wp-content/uploads/2023/10/nebula-2638126_1920.jpg
END:VEVENT
BEGIN:VEVENT
DTSTART;TZID=Europe/Rome:20231021T090000
DTEND;TZID=Europe/Rome:20231021T173000
DTSTAMP:20260421T194824
CREATED:20231015T165040Z
LAST-MODIFIED:20231015T165522Z
UID:15294-1697878800-1697909400@www.associazioneaifa.it
SUMMARY:Il mondo ADHD: la gestione del quotidiano nel corso della vita
DESCRIPTION:LA SPEZIA. 21 ottobre 2023 – “Il mondo ADHD: la gestione del quotidiano nel corso della vita“\, Sala Dante\, via Ugo Bassi 4 – dalle 9:00 alle 17:30. \nIl Convegno è organizzato dalle referenti della Liguria di AIFA APS\, Associazione Italiana Famiglie ADHD\, in collaborazione e con il patrocinio dell’Azienda Sociosanitaria Ligure ASL5\, con il patrocinio della città di La Spezia e dell’AIDAI\, Associazione Italiana Deficit dell’Attenzione e Iperattività. Si ringrazia per il supporto l’Organizzazione di volontariato Insieme per i diritti dei nostri figli. \nSono previsti in mattinata tre interventi per esporre i temi dell’ADHD nell’età evolutiva e in quella adulta dal punto di vista medico e farmacologico mentre nel pomeriggio si affronterà l’aspetto terapeutico psicologico. Uno sguardo sarà rivolto ai progetti sviluppati dai medici della Struttura Complessa Dipartimentale di Neuropsichiatria Infantile dell’ASL5 indirizzati ai bambini/adolescenti per rinforzare le loro abilità socio-relazionali anche attraverso l’attivazione di Parent Training per i genitori. Approfondiremo la conoscenza sulla normativa scolastica e scopriremo quali sono le migliori strategie da attuare per garantire il successo scolastico degli alunni con ADHD e sue comorbidità. Parleremo dei percorsi psicologici adatti agli adulti con ADHD per gestire il quotidiano e l’inserimento nel mondo del lavoro. \nIl convegno\, ad ingresso libero e gratuito\, è aperto a psichiatri\, psicologi\, logopedisti\, psicomotricisti\, pedagogisti\, educatori\, insegnanti\, medici di base\, pediatri e alle famiglie. Agli insegnanti saranno riconosciuti i crediti per la formazione con iscrizione ID 88399 sulla piattaforma Sofia. \nProgramma: \n\n09:00 – apertura lavori: Monica Conversano vicepresidente AIFA APS; saluti Istituzionali Città della Spezia: Giulio Guerri\, Assessore alle Politiche Sanitarie; saluti Istituzionali ASL5: Elisa Simonini\, Direttore f.f. Dipartimento Salute Mentale e Dipendenze\n09:30 – ADHD nel bambino – Franco Giovannoni\, Direttore S.C. Neuropsichiatria Infantile ASL5\n10:00 – ADHD nell’adulto – Elisa Simonini\, Direttore f.f. Dipartimento Salute Mentale e Dipendenze ASL5\n10:30 – coffee break\n11:00 – Trattamento farmacologico del deficit dell’attenzione e iperattività e delle sue comorbilità nell’età adulta – Giulio Emilio Brancati\, Psichiatra\, Università di Pisa\n12:00 – spazio domande\n12.30 – pausa pranzo\n13:30 – Intervento multimodale su bambini\, famiglie e scuole nell’ADHD. Un progetto pilota: il progetto Spugna – assorbire social skills in ambiente nautico – Sandra Moretti\, Psicologa Psicoterapeuta dell’età evolutiva ASL5\n14:15 – Sport e Funzioni esecutive: l’utilizzo della motricità cognitivo attentiva Metodo Benso in sport velici – Alessandra Carnacina\, Assistente sociale ASL5 e Psicologa; per AIDAI: Valentina Ricci\, Psicologa – Nicolò Tonelli\, Dottore in psicologia\n15:00 – La normativa attinente ADHD e sue comorbilità nei tre ordini scolastici – Daniela Garau\, Michela Chiappini\, Lucilla Parrettini – Centro Territoriale di Supporto/Inclusione scolastica La Spezia\n15:45 – La strategia del Coping Power Scuola – Iacopo Bertacchi\, Psicologo Psicoterapeuta\n16:30 – Interventi psicologici e strategie comportamentali nell’adulto – Tamara Mesemi\, Psicologa Psicoterapeuta\n17:00 – spazio domande\n17:30 – chiusura lavori\n\nPer informazioni contattare Monica Conversano all’indirizzo referente.liguria@associazioneaifa.it\no chiamando il +39 349 665 8925. \nL’iniziativa si svolge in ottobre\, mese della consapevolezza ADHD\, che nel 2023 ha come slogan “Vivere bene con l’ADHD” https://www.adhdawarenessmonth.org. \n \n\nScarica la locandina
URL:https://www.associazioneaifa.it/evento/il-mondo-adhd-la-gestione-del-quotidiano-nel-corso-della-vita/
LOCATION:Sala Dante\, via Ugo Bassi\, 4\, La Spezia\, Italia
CATEGORIES:AIFA APS
ATTACH;FMTTYPE=image/jpeg:https://www.associazioneaifa.it/wp-content/uploads/2023/10/Il-Mondo-ADHD.jpg
END:VEVENT
BEGIN:VEVENT
DTSTART;TZID=Europe/Rome:20231027T093000
DTEND;TZID=Europe/Rome:20231027T190000
DTSTAMP:20260421T194824
CREATED:20231015T170641Z
LAST-MODIFIED:20231015T170711Z
UID:15302-1698399000-1698433200@www.associazioneaifa.it
SUMMARY:Insight nel Disturbo da Deficit di Attenzione e Iperattività
DESCRIPTION:NAPOLI. 27 e 28 ottobre 2023. “Insight nel Disturbo da Deficit di Attenzione e Iperattività” è il titolo del Congresso in programma presso NH Hotel Panorama\, via Medina\, 70. \nIl Disturbo da Deficit di Attenzione ed Iperattività (ADHD) rappresenta\, ad oggi\, il più comune disturbo del neurosviluppo e investe la vita di migliaia e migliaia di bambini\, ragazzi e loro famiglie. \nAncora oggi\, esso è spesso misconosciuto\, misdiagnosticato e mal trattato. \nObiettivo del congresso e del relativo corso precongressuale\, è di fornire agli iscritti il livello di conoscenze scientifiche più aggiornato e più rigoroso su tutti gli aspetti di questa complessa\, eterogenea ed affascinante condizione. \nLe relazioni del congresso spazieranno dai modelli teorici alla presentazione clinica\, dalla eziologia ai trattamenti\, fino alle traiettorie evolutive per offrire un approfondimento delle principali aree di interesse relative all’ADHD. \nIl corso pre congressuale ha l’obiettivo di fornire le conoscenze di base sulla diagnosi e cura dell’ADHD\, riferendosi a linee guida nazionali ed europee ed a prassi di buona pratica clinica. \nGli organizzatori del congresso\, Prof.ssa Carmela Bravaccio e Prof. Simone Pisano\, ordinari di neuropsichiatria infantile presso l’Università degli Studi Federico II di Napoli\, auspicano che i colleghi che ascolteranno il congresso possano ricevere aggiornate informazioni\, teoriche e pratiche\, che li aiutino nel gravoso lavoro quotidiano e che i pazienti con ADHD e le loro famiglie possano indirettamente essere sollevati nel loro difficoltoso cammino di vita. \nPer iscriversi al pre congresso vai al link:\nhttps://www.mgmcongress.org/Corso-Pr-Congressuale-ADHD-in-practice \nPer iscriversi al Congresso vai al link:\nhttps://www.mgmcongress.org/calendario-eventi/Insight-nel-disturbo-da-deficit-di-attenzione-ed-iperattivita \n\nScarica la brochure
URL:https://www.associazioneaifa.it/evento/insight-nel-disturbo-da-deficit-di-attenzione-e-iperattivita/
LOCATION:NH Hotel Panorama\, Via Medina\, 70\, Napoli\, Italia
CATEGORIES:AIFA APS
ATTACH;FMTTYPE=image/jpeg:https://www.associazioneaifa.it/wp-content/uploads/2023/10/pexels-kelly-12530468.jpg
END:VEVENT
BEGIN:VEVENT
DTSTART;TZID=Europe/Rome:20231027T203000
DTEND;TZID=Europe/Rome:20231027T220000
DTSTAMP:20260421T194824
CREATED:20231015T170215Z
LAST-MODIFIED:20231015T170215Z
UID:15298-1698438600-1698444000@www.associazioneaifa.it
SUMMARY:ADHD: dall’inclusione all’integrazione. Strumenti per minori e genitori per stare meglio a scuola.
DESCRIPTION:TRIESTE. 27/10/2023. “ADHD: Dall’inclusione all’integrazione. Strumenti per minori e genitori per stare meglio a scuola” è il titolo dell’incontro informativo gratuito organizzato dalle referenti di AIFA APS – Associazione Italiana Famiglie ADHD – in Friuli-Venezia Giulia. \nL’incontro sul Disturbo da Deficit di Attenzione/Iperattività in età scolastica\, fruibile da tutta Italia\, si svolgerà online venerdì 27 ottobre 2023 dalle ore 20.30 alle ore 22.00 su piattaforma Google Meet. Sarà possibile iscriversi entro mercoledì 25 ottobre 2023. Il link per il collegamento sarà inviato il giorno 27 ottobre 2023 alle persone che risulteranno iscritte. \nOspiti della serata: \n\nAlessandro La Neve\, psicologo con formazione specifica in psicopatologia dell’apprendimento. Referente Affiliati AIRIPA FVG. Collaboratore AIFA APS.\nMariette Galli\, psicologa clinica dello sviluppo. Membro AIDAI e collaboratrice AIFA APS.\n\nPer informazioni e iscrizioni è possibile contattare:\nPavlina Dyulgerova\, cel. +39 388 881 6790\nreferente.friuliveneziagiulia@associazioneaifa.it\noppure\nPaola Forte\, cel. +39 347 787 5643\nreferente.trieste1@associazioneaifa.it \nL’iniziativa si svolge in ottobre\, mese della consapevolezza ADHD\, che nel 2023 ha come slogan “Vivere bene con l’ADHD” https://www.adhdawarenessmonth.org. \n \n\nScarica la locandina
URL:https://www.associazioneaifa.it/evento/adhd-dallinclusione-allintegrazione/
CATEGORIES:AIFA APS
ATTACH;FMTTYPE=image/jpeg:https://www.associazioneaifa.it/wp-content/uploads/2023/10/students-3518726_1920.jpg
END:VEVENT
END:VCALENDAR