BEGIN:VCALENDAR
VERSION:2.0
PRODID:-//Associazione AIFA - ECPv6.15.20//NONSGML v1.0//EN
CALSCALE:GREGORIAN
METHOD:PUBLISH
X-ORIGINAL-URL:https://www.associazioneaifa.it
X-WR-CALDESC:Eventi per Associazione AIFA
REFRESH-INTERVAL;VALUE=DURATION:PT1H
X-Robots-Tag:noindex
X-PUBLISHED-TTL:PT1H
BEGIN:VTIMEZONE
TZID:Europe/Rome
BEGIN:DAYLIGHT
TZOFFSETFROM:+0100
TZOFFSETTO:+0200
TZNAME:CEST
DTSTART:20210328T010000
END:DAYLIGHT
BEGIN:STANDARD
TZOFFSETFROM:+0200
TZOFFSETTO:+0100
TZNAME:CET
DTSTART:20211031T010000
END:STANDARD
BEGIN:DAYLIGHT
TZOFFSETFROM:+0100
TZOFFSETTO:+0200
TZNAME:CEST
DTSTART:20220327T010000
END:DAYLIGHT
BEGIN:STANDARD
TZOFFSETFROM:+0200
TZOFFSETTO:+0100
TZNAME:CET
DTSTART:20221030T010000
END:STANDARD
BEGIN:DAYLIGHT
TZOFFSETFROM:+0100
TZOFFSETTO:+0200
TZNAME:CEST
DTSTART:20230326T010000
END:DAYLIGHT
BEGIN:STANDARD
TZOFFSETFROM:+0200
TZOFFSETTO:+0100
TZNAME:CET
DTSTART:20231029T010000
END:STANDARD
END:VTIMEZONE
BEGIN:VEVENT
DTSTART;TZID=Europe/Rome:20221125T203000
DTEND;TZID=Europe/Rome:20221125T220000
DTSTAMP:20260422T135347
CREATED:20221122T105655Z
LAST-MODIFIED:20221122T105655Z
UID:14002-1669408200-1669413600@www.associazioneaifa.it
SUMMARY:ADHD dalla diagnosi alla presa in carico terapeutica
DESCRIPTION:Webinar ADHD nell’età evolutiva\nADHD dalla diagnosi alla presa in carico terapeutica.Venerdì 25 novembre 2022\, dalle 20\,30 alle 22.00\, si svolgerà una serata informativa attraverso webinar su piattaforma Google Meet a partecipazione gratuita previa iscrizione attraverso il link https://forms.gle/BSyKeM62BfXH7Fis5 (si prega di cominciare a collegarsi alle 20.00) \nLa serata informativa sull’ADHD nell’età evolutiva è rivolta a genitori di bambini e ragazzi con Disturbo da Deficit di Attenzione/Iperattività ed è organizzata da AIFA APS\, Associazione Italiana Famiglie ADHD\, in collaborazione con l’Azienda Ospedaliera Universitaria Policlinico Federico II di Napoli – Reparto di Neuropsichiatria Infantile responsabile Prof.ssa Carmela Bravaccio. \nRelatori: \n\nEmilia Sarnataro\, neuropsichiatra infantile\, AOU Policlinico Federico II di Napoli: Diagnosi dell’ADHD\, disturbi associati e organizzazione dei Servizi.\nSimone Pisano\, Professore associato di neuropsichiatria infantile all’Università Federico II di Napoli: Presa in carico terapeutica.\n\nDopo gli interventi potranno essere rivolte ai relatori domande attraverso la chat. \nModerano: Vincenzo Savarese\, Referente Campania di AIFA APS e Marcella Rastelli\, Referente Napoli di AIFA APS. \nPer informazioni rivolgersi a Vincenzo Savarese\, referente.campania@associazioneaifa.it cel. 334 694 6754. \n\nScarica la locandina
URL:https://www.associazioneaifa.it/evento/adhd-dalla-diagnosi-alla-presa-in-carico-terapeutica/
CATEGORIES:AIFA APS
ATTACH;FMTTYPE=image/jpeg:https://www.associazioneaifa.it/wp-content/uploads/2022/11/video-conference.jpg
END:VEVENT
END:VCALENDAR