BEGIN:VCALENDAR
VERSION:2.0
PRODID:-//Associazione AIFA - ECPv6.15.20//NONSGML v1.0//EN
CALSCALE:GREGORIAN
METHOD:PUBLISH
X-ORIGINAL-URL:https://www.associazioneaifa.it
X-WR-CALDESC:Eventi per Associazione AIFA
REFRESH-INTERVAL;VALUE=DURATION:PT1H
X-Robots-Tag:noindex
X-PUBLISHED-TTL:PT1H
BEGIN:VTIMEZONE
TZID:Europe/Rome
BEGIN:DAYLIGHT
TZOFFSETFROM:+0100
TZOFFSETTO:+0200
TZNAME:CEST
DTSTART:20200329T010000
END:DAYLIGHT
BEGIN:STANDARD
TZOFFSETFROM:+0200
TZOFFSETTO:+0100
TZNAME:CET
DTSTART:20201025T010000
END:STANDARD
BEGIN:DAYLIGHT
TZOFFSETFROM:+0100
TZOFFSETTO:+0200
TZNAME:CEST
DTSTART:20210328T010000
END:DAYLIGHT
BEGIN:STANDARD
TZOFFSETFROM:+0200
TZOFFSETTO:+0100
TZNAME:CET
DTSTART:20211031T010000
END:STANDARD
BEGIN:DAYLIGHT
TZOFFSETFROM:+0100
TZOFFSETTO:+0200
TZNAME:CEST
DTSTART:20220327T010000
END:DAYLIGHT
BEGIN:STANDARD
TZOFFSETFROM:+0200
TZOFFSETTO:+0100
TZNAME:CET
DTSTART:20221030T010000
END:STANDARD
END:VTIMEZONE
BEGIN:VEVENT
DTSTART;TZID=Europe/Rome:20211127T090000
DTEND;TZID=Europe/Rome:20211127T130000
DTSTAMP:20260425T165616
CREATED:20211024T174430Z
LAST-MODIFIED:20211024T174430Z
UID:7741-1638003600-1638018000@www.associazioneaifa.it
SUMMARY:ADHD – dall’infanzia all’età adulta
DESCRIPTION:“ADHD – Disturbo da Deficit di Attenzione e Iperattività\, dall’infanzia all’età adulta” è il titolo dell’evento informativo sull’ADHD\, in programma sabato 27 novembre 2021 dalle ore 9.00 alle ore 13.00 presso il cineteatro PALLADIUM in Via Fiumicella 12 a Lecco. \nL’evento è rivolto a docenti di ogni ordine e grado\, ad educatori e chiunque sia coinvolto nella sfera educativa di bambini e ragazzi con ADHD\, nonché a genitori e parenti. \nL’iniziativa ha lo scopo di far conoscere meglio cos’è l’ADHD e di offrire una visione più ampia delle problematiche nella vita quotidiana scolastica\, familiare e sociale dei bambini\, dei ragazzi e delle famiglie che convivono con il Disturbo da Deficit di Attenzione e Iperattività. \nDopo una breve presentazione dell’Associazione\, il programma prevede un’ampia panoramica sull’ADHD a cura di Davide Villani\, Neuropsichiatra della UONPIA di Lecco. \nSeguono poi un intervento sulle Funzioni (oppure disfunzioni) esecutive dei minori con ADHD presentata da Veronica Aiani\, terapista della neuro e psicomotricità dell’età adulta\, ed un intervento sul complesso passaggio dall’adolescenza all’età adulta a cura di Francesca Sgroi\, psicologa e collaboratrice AIFA Onlus. \nInfine\, è prevista la lettura della testimonianza di una famiglia con un bambino con ADHD. \nL’iniziativa è organizzata da AIFA Lombardia APS\, Associazione Italiana Famiglie ADHD\, l’ingresso è gratuito ma è indispensabile iscriversi per email a: referente.milano@associazioneaifa.it inviando la scheda allegata. \nL’evento “ADHD – dall’infanzia all’età adulta” si svolgerà nel rispetto delle indicazioni nazionali anti Covid-19 e per l’ingresso sarà necessario il GREENPASS. \nPer informazioni:\nMeri Ferrario referente.como-lecco@associazioneaifa.it\, cel. 338 480 4952\, oppure\nAstrid Gollner referente.lombardia@associazioneaifa.it\, cel. 338 592 1605. \n\nScarica la scheda di iscrizione e la locandina
URL:https://www.associazioneaifa.it/evento/adhd-dallinfanzia-alleta-adulta/
LOCATION:Lecco\, Via Fiumicella\, 12\, Lecco\, Italia
CATEGORIES:AIFA APS
ATTACH;FMTTYPE=image/jpeg:https://www.associazioneaifa.it/wp-content/uploads/2021/10/people_1920.jpg
END:VEVENT
END:VCALENDAR