BEGIN:VCALENDAR
VERSION:2.0
PRODID:-//Associazione AIFA - ECPv6.15.20//NONSGML v1.0//EN
CALSCALE:GREGORIAN
METHOD:PUBLISH
X-ORIGINAL-URL:https://www.associazioneaifa.it
X-WR-CALDESC:Eventi per Associazione AIFA
REFRESH-INTERVAL;VALUE=DURATION:PT1H
X-Robots-Tag:noindex
X-PUBLISHED-TTL:PT1H
BEGIN:VTIMEZONE
TZID:Europe/Rome
BEGIN:DAYLIGHT
TZOFFSETFROM:+0100
TZOFFSETTO:+0200
TZNAME:CEST
DTSTART:20200329T010000
END:DAYLIGHT
BEGIN:STANDARD
TZOFFSETFROM:+0200
TZOFFSETTO:+0100
TZNAME:CET
DTSTART:20201025T010000
END:STANDARD
BEGIN:DAYLIGHT
TZOFFSETFROM:+0100
TZOFFSETTO:+0200
TZNAME:CEST
DTSTART:20210328T010000
END:DAYLIGHT
BEGIN:STANDARD
TZOFFSETFROM:+0200
TZOFFSETTO:+0100
TZNAME:CET
DTSTART:20211031T010000
END:STANDARD
BEGIN:DAYLIGHT
TZOFFSETFROM:+0100
TZOFFSETTO:+0200
TZNAME:CEST
DTSTART:20220327T010000
END:DAYLIGHT
BEGIN:STANDARD
TZOFFSETFROM:+0200
TZOFFSETTO:+0100
TZNAME:CET
DTSTART:20221030T010000
END:STANDARD
END:VTIMEZONE
BEGIN:VEVENT
DTSTART;TZID=Europe/Rome:20211002T160000
DTEND;TZID=Europe/Rome:20211002T180000
DTSTAMP:20260425T183141
CREATED:20210915T112412Z
LAST-MODIFIED:20210921T082352Z
UID:7288-1633190400-1633197600@www.associazioneaifa.it
SUMMARY:Le parole e la vita raccontano l’ADHD
DESCRIPTION:“Le parole e la vita raccontano l’ADHD” è il titolo dell’iniziativa organizzata da AIFA Onlus\, Associazione Italiana Famiglie ADHD\, alle ore 16\,00 presso la sala della Fondazione Sant’Anna – Viale Roma\, 15. \nUn evento dove diverse voci ed esperienze\, si fonderanno con il vissuto quotidiano delle persone\, per raccontare l’ADHD\, il Disturbo da Deficit di Attenzione ed Iperattività\, al centro del quale c’è il romanzo “IO\, PAJATOSTA” (Bertoni editore) della scrittrice ternana Sandra Ceccarelli\, che racconta la storia di un ragazzo alle prese con la sua adozione e il disturbo dell’ADHD. \nLa presentazione\, ad ingresso gratuito\, è aperta a tutti gli interessati e si svolge nell’ambito dell’edizione 2021 di “Ottobre mese della consapevolezza sull’ADHD”\,  October 2021 ADHD Awareness Month\, https://adhdeurope.eu/ \nPer le misure di contenimento del Covid 19\, la presenza consentita in sala è di 40 persone (relatori compresi). Verranno quindi accettate le iscrizioni in ordine di arrivo fino al raggiungimento del numero massimo consentito\, tramite sms o whatsapp al numero telefonico 328 6650216 (indicando nome\, cognome e provenienza) ed esibendo obbligatoriamente all’ingresso nella sala il Green Pass o tampone eseguito entro le precedenti 48 ore. Per consentire a tutti di seguire l’evento\, è comunque prevista una diretta collegandosi alla pagina Facebook “IO\, PAJATOSTA”: https://m.facebook.com/pajatosta/ \nHanno dato la disponibilità ad intervenire: Leonardo Varasano\, assessore Cultura Comune di Perugia; Francesca Barbanera\, neuropsichiatra Usl Umbria 1; Jean Luc Bertoni\, editore; Tommaso Bori\, consigliere regionale; Paola Casucci\, dirigente Programmazione Sanitaria Regione Umbria; Sandra Ceccarelli\, scrittrice; Paolo De Luca\, referente regionale AIFA Onlus Umbria; Paola Fioroni\, vice presidente Assemblea Legislativa Umbria; Maria Pia Serlupini\, insegnante; Marco Squarta\, presidente Assemblea Legislativa Umbria. \nPer informazioni: Paolo De Luca\, referente regionale per l’Umbria di AIFA Onlus\, mail referente.umbria@associazioneaifa.it e cel. 328 665 0216
URL:https://www.associazioneaifa.it/evento/le-parole-e-la-vita-raccontano-ladhd/
LOCATION:Perugia\, Viale Roma\, 15\, Perugia\, Italia
CATEGORIES:AIFA APS
ATTACH;FMTTYPE=image/jpeg:https://www.associazioneaifa.it/wp-content/uploads/2021/09/books-985954_1280.jpg
END:VEVENT
BEGIN:VEVENT
DTSTART;TZID=Europe/Rome:20211004T180000
DTEND;TZID=Europe/Rome:20211004T200000
DTSTAMP:20260425T183141
CREATED:20210924T204223Z
LAST-MODIFIED:20210924T204223Z
UID:7329-1633370400-1633377600@www.associazioneaifa.it
SUMMARY:“Emozioni in gioco” - progetto di inclusione per bambini e ragazzi con ADHD
DESCRIPTION:Lunedì 4 ottobre alle ore 18:00 si terrà un incontro informativo con Alessia Tam\, pedagogista\, Alex Bertolatti\, psicologo\, e Gloria Marchesi\, psicologa\, per presentare “Emozioni in gioco”\, progetto di inclusione per bambini e ragazzi con ADHD – Disturbo da Deficit di Attenzione e Iperattività\, promosso da AIFA Lombardia Aps – Associazione Italiana Famiglie ADHD – in collaborazione con il Centro Arco . \nNel rispetto delle norme di sicurezza anti Covid 19\, la presentazione del progetto si svolgerà presso la sede di Arco S.r.l. in via G. Mazzini\, 9 a Sondrio.
URL:https://www.associazioneaifa.it/evento/emozioni-in-gioco-doposcuola-inclusione/
LOCATION:Sondrio\, Via Giuseppe Mazzini\, 9\, Sondrio\, Italia
CATEGORIES:AIFA APS
ATTACH;FMTTYPE=image/jpeg:https://www.associazioneaifa.it/wp-content/uploads/2021/09/desk-1574669_1920.jpg
END:VEVENT
BEGIN:VEVENT
DTSTART;VALUE=DATE:20211023
DTEND;VALUE=DATE:20211024
DTSTAMP:20260425T183141
CREATED:20211003T175545Z
LAST-MODIFIED:20211003T175545Z
UID:7570-1634947200-1635033599@www.associazioneaifa.it
SUMMARY:Un pomeriggio insieme!
DESCRIPTION:L’evento previsto per sabato 18 settembre è stato spostato a sabato 23 ottobre\, causa maltempo\nMONZA. Sabato 23 ottobre 2021 alle ore 14.00 AIFA Lombardia APS – Associazione Italiana Famiglie ADHD\, invita le famiglie con bambini e ragazzi con Disturbo da Deficit di Attenzione e Iperattività a passare un pomeriggio di svago presso il Parco Avventura all’interno del Parco di Monza. \nL’Area Avventura prevede un percorso per bambini dai 5 ai 10 anni (altezza fino a 115 cm) mentre i ragazzi dai 10 anni in su possono fare un percorso più impegnativo. Il contributo richiesto per ogni bambino/ragazzo è di soli € 7 a giro. Mentre i ragazzi si divertono i genitori possono rilassarsi nell’area attrezzata con ristorazione dove le nostre referenti sono a disposizione per informazioni e chiacchiere e per organizzare i prossimi incontri dei gruppi di auto mutuo aiuto. \nLe famiglie partecipanti si troveranno alle ore 14.00 all’ingresso di Biassono (MB)\, in Via Santa Maria delle Selve dove saranno accolti da Sabrina Lissoni\, referente Associazione Italiana Famiglie ADHD per Monza e Brianza. \nPer informazioni e adesioni telefonare a Sabrina Lissoni\, 334 9200651.
URL:https://www.associazioneaifa.it/evento/un-pomeriggio-insieme-2/
LOCATION:Monza\, Via Santa Maria delle Selve\, Biassono\, Italia
CATEGORIES:AIFA APS
ATTACH;FMTTYPE=image/jpeg:https://www.associazioneaifa.it/wp-content/uploads/2021/09/parco_avventura_1920.jpg
END:VEVENT
END:VCALENDAR