BEGIN:VCALENDAR
VERSION:2.0
PRODID:-//Associazione AIFA - ECPv6.15.20//NONSGML v1.0//EN
CALSCALE:GREGORIAN
METHOD:PUBLISH
X-WR-CALNAME:Associazione AIFA
X-ORIGINAL-URL:https://www.associazioneaifa.it
X-WR-CALDESC:Eventi per Associazione AIFA
REFRESH-INTERVAL;VALUE=DURATION:PT1H
X-Robots-Tag:noindex
X-PUBLISHED-TTL:PT1H
BEGIN:VTIMEZONE
TZID:Europe/Rome
BEGIN:DAYLIGHT
TZOFFSETFROM:+0100
TZOFFSETTO:+0200
TZNAME:CEST
DTSTART:20200329T010000
END:DAYLIGHT
BEGIN:STANDARD
TZOFFSETFROM:+0200
TZOFFSETTO:+0100
TZNAME:CET
DTSTART:20201025T010000
END:STANDARD
BEGIN:DAYLIGHT
TZOFFSETFROM:+0100
TZOFFSETTO:+0200
TZNAME:CEST
DTSTART:20210328T010000
END:DAYLIGHT
BEGIN:STANDARD
TZOFFSETFROM:+0200
TZOFFSETTO:+0100
TZNAME:CET
DTSTART:20211031T010000
END:STANDARD
BEGIN:DAYLIGHT
TZOFFSETFROM:+0100
TZOFFSETTO:+0200
TZNAME:CEST
DTSTART:20220327T010000
END:DAYLIGHT
BEGIN:STANDARD
TZOFFSETFROM:+0200
TZOFFSETTO:+0100
TZNAME:CET
DTSTART:20221030T010000
END:STANDARD
END:VTIMEZONE
BEGIN:VEVENT
DTSTART;VALUE=DATE:20210905
DTEND;VALUE=DATE:20210906
DTSTAMP:20260422T013255
CREATED:20210904T135025Z
LAST-MODIFIED:20210904T135025Z
UID:7190-1630800000-1630886399@www.associazioneaifa.it
SUMMARY:ADHD in Fattoria
DESCRIPTION:BUSALLA (GE). Domenica 5 settembre 2021 presso la fattoria didattica “Azienda Agricola Bastia” di Martina Vallarino\, in via Salvarezza Bastia n. 45\, è in programma il primo incontro di “ADHD in fattoria” organizzato dal gruppo di referenti in Liguria di AIFA Onlus – Associazione Italiana Famiglie ADHD. \nL’obiettivo dell’evento rivolto ai soci di AIFA Onlus\, ma anche a chiunque pur non essendo socio abbia piacere di partecipare\, è quello di passare una giornata in compagnia\, conoscendosi di persona e fornendo l’occasione di conoscere l’ADHD “sul campo”\, in un contesto sereno e gratificante. \nSi tratta di un laboratorio pensato per i bambini dai 4 ai 12 anni (età non tassativa) sul tema: una giornata da contadini. I partecipanti svolgeranno attività tipiche sotto la guida di attenti operatori. \nDurante le attività dei bambini\, i genitori (e i giovani adulti con ADHD che già hanno detto che parteciperanno) potranno trascorrere del tempo insieme negli spazi all’aperto della fattoria\, un momento di aggregazione e condivisione utile per il reciproco supporto e per far conoscere in modo naturale l’ADHD anche a chi si avvicina per la prima volta. \nIscrizione: € 12\,00 – PRENOTAZIONE OBBLIGATORIA entro il 22 agosto 2021 fino a esaurimento capienza (40 posti) \n\nSimona Zappia\, cel. 371 361 9058 dopo le ore 20:00 oppure via WhatsApp o via email referente.genova2@aifa.it
URL:https://www.associazioneaifa.it/evento/adhd-in-fattoria/
LOCATION:Busalla\, Via Salvarezza Bastia 45\, Busalla\, Italia
CATEGORIES:AIFA APS
ATTACH;FMTTYPE=image/png:https://www.associazioneaifa.it/wp-content/uploads/2021/08/illustration-4540300.png
END:VEVENT
BEGIN:VEVENT
DTSTART;VALUE=DATE:20210629
DTEND;VALUE=DATE:20210630
DTSTAMP:20260422T013255
CREATED:20210513T173500Z
LAST-MODIFIED:20210904T135621Z
UID:5346-1624924800-1625011199@www.associazioneaifa.it
SUMMARY:Hasta la vista
DESCRIPTION:Su iniziativa di LEDHA Milano\, Lega per i diritti delle persone con disabilità APS\, e in collaborazione con Wanted Cinema\, società di distribuzione cinematografica a Milano\, AIFA Lombardia APS – Associazione Italiana Famiglie ADHD parlerà di ADHD\, Disturbo da Deficit di Attenzione e Iperattività\, prima della proiezione del film “Hasta la vista”\, un road movie che vede come protagonisti tre ragazzi con disabilità.
URL:https://www.associazioneaifa.it/evento/hasta-la-vista/
LOCATION:Milano\, Via Atto Vannucci 13\, Milano\, Italia
CATEGORIES:AIFA APS
ATTACH;FMTTYPE=image/jpeg:https://www.associazioneaifa.it/wp-content/uploads/2021/06/2021.06.29.AIFA_Lombardia.jpg
END:VEVENT
END:VCALENDAR