BEGIN:VCALENDAR
VERSION:2.0
PRODID:-//Associazione AIFA - ECPv6.15.20//NONSGML v1.0//EN
CALSCALE:GREGORIAN
METHOD:PUBLISH
X-WR-CALNAME:Associazione AIFA
X-ORIGINAL-URL:https://www.associazioneaifa.it
X-WR-CALDESC:Eventi per Associazione AIFA
REFRESH-INTERVAL;VALUE=DURATION:PT1H
X-Robots-Tag:noindex
X-PUBLISHED-TTL:PT1H
BEGIN:VTIMEZONE
TZID:Europe/Rome
BEGIN:DAYLIGHT
TZOFFSETFROM:+0100
TZOFFSETTO:+0200
TZNAME:CEST
DTSTART:20240331T010000
END:DAYLIGHT
BEGIN:STANDARD
TZOFFSETFROM:+0200
TZOFFSETTO:+0100
TZNAME:CET
DTSTART:20241027T010000
END:STANDARD
BEGIN:DAYLIGHT
TZOFFSETFROM:+0100
TZOFFSETTO:+0200
TZNAME:CEST
DTSTART:20250330T010000
END:DAYLIGHT
BEGIN:STANDARD
TZOFFSETFROM:+0200
TZOFFSETTO:+0100
TZNAME:CET
DTSTART:20251026T010000
END:STANDARD
BEGIN:DAYLIGHT
TZOFFSETFROM:+0100
TZOFFSETTO:+0200
TZNAME:CEST
DTSTART:20260329T010000
END:DAYLIGHT
BEGIN:STANDARD
TZOFFSETFROM:+0200
TZOFFSETTO:+0100
TZNAME:CET
DTSTART:20261025T010000
END:STANDARD
END:VTIMEZONE
BEGIN:VEVENT
DTSTART;VALUE=DATE:20251018
DTEND;VALUE=DATE:20251020
DTSTAMP:20260421T201222
CREATED:20251012T103638Z
LAST-MODIFIED:20251012T103858Z
UID:18142-1760745600-1760918399@www.associazioneaifa.it
SUMMARY:AIFA APS in Fiera di San Simone – Codroipo 2025
DESCRIPTION:CODROIPO (UD). 18-19 e 25-26 ottobre 2024 FIERA DI SAN SIMONE \nAnche quest’anno AIFA APS\, Associazione Italiana Famiglie ADHD\, partecipa alla fiera di San Simone! \nDopo il successo dello scorso anno le referenti di AIFA APS in Friuli-Venezia Giulia saranno nuovamente presenti alla Fiera di San Simone\, organizzata dal comune di Codroipo\, in provincia di Udine\, per il 18-19 e 25-26 ottobre 2025. \nAppuntamento presso lo stand di AIFA APS in piazza Garibaldi dove sarà disponibile materiale informativo\, libri e tanto altro e conoscere le attività dell’Associazione Italiana Famiglie ADHD. \nIn particolare non mancate domenica 26 ottobre dalle ore 15.00 alle ore 18.00 Truccabimbi e Spettacolo bolle di Manuela Castello. Vi aspettiamo! \nPer informazioni contattare:\nEnrica Capitanio\, cel. +39 339 438 3588\nreferente.udine1@associazioneaifa.it \nL’iniziativa si svolge in ottobre\, mese della consapevolezza sull’ADHD\, che nel 2025 ha come slogan:\n“I Molti Volti dell’ADHD”\nhttps://www.adhdawarenessmonth.org. \n \n\nVisualizza la locandina \n 
URL:https://www.associazioneaifa.it/evento/aifa-aps-in-fiera-di-san-simone-codroipo-2025/
LOCATION:Fiera di San Simone\, Piazza Garibaldi\, Codoprio (UD)\, Italy
CATEGORIES:AIFA APS
ATTACH;FMTTYPE=image/jpeg:https://www.associazioneaifa.it/wp-content/uploads/2025/10/codoprio.jpg
END:VEVENT
BEGIN:VEVENT
DTSTART;TZID=Europe/Rome:20251018T150000
DTEND;TZID=Europe/Rome:20251018T180000
DTSTAMP:20260421T201222
CREATED:20251008T145642Z
LAST-MODIFIED:20251008T145642Z
UID:18120-1760799600-1760810400@www.associazioneaifa.it
SUMMARY:Sport e ADHD: Energia in Movimento
DESCRIPTION:Sport e ADHD: Energia in Movimento a Castello dell’Acqua (SO): nei due pomeriggi di sabato 18 e 25 ottobre 2025 AIFA Lombardia APS – Associazione Italiana Famiglie ADHD\, in collaborazione con A.S.D. Calcio Valtellina ed il Centro Arco di Sondrio offre ai ragazzi tra i 6 e 14 anni con e senza ADHD la possibilità di esercitarsi con la propedeutica sportiva volta a migliorare la concentrazione e a favorire il gioco di squadra in varie pratiche sportive\, guidati dall’allenatore Ermanno Maranga e dal personale educativo esperto del Centro Arco di Sondrio. \nLa partecipazione ai due pomeriggi di sport è gratuita\, l’evento si svolge all’interno del progetto “Ottobre – mese della consapevolezza dell’ADHD” e si concluderà con un buffet di stuzzichini con i ragazzi e le loro famiglie. \nAl centro sportivo comunale di Castello dell’Acqua in Via del Piano dalle 15\,00 alle 18\,00 \nPer informazioni e iscrizioni contattare Marìka\, referente per Sondrio dell’Associazione AIFA APS – 392 7662046 whatsapp \n\nVisualizza la locandina \n  \nL’iniziativa si svolge in ottobre\, mese della consapevolezza sull’ADHD\, che nel 2025 ha come slogan “I Molti Volti dell’ADHD” – https://www.adhdawarenessmonth.org.
URL:https://www.associazioneaifa.it/evento/sport-e-adhd-energia-in-movimento/
LOCATION:Centro Sportivo Comunale\, Via del Piano\, Castello dell’Acqua (SO)\, Italy
CATEGORIES:AIFA APS
ATTACH;FMTTYPE=image/jpeg:https://www.associazioneaifa.it/wp-content/uploads/2025/10/Sport-e-ADHD.jpg
END:VEVENT
END:VCALENDAR