BEGIN:VCALENDAR
VERSION:2.0
PRODID:-//Associazione AIFA - ECPv6.15.20//NONSGML v1.0//EN
CALSCALE:GREGORIAN
METHOD:PUBLISH
X-ORIGINAL-URL:https://www.associazioneaifa.it
X-WR-CALDESC:Eventi per Associazione AIFA
REFRESH-INTERVAL;VALUE=DURATION:PT1H
X-Robots-Tag:noindex
X-PUBLISHED-TTL:PT1H
BEGIN:VTIMEZONE
TZID:Europe/Rome
BEGIN:DAYLIGHT
TZOFFSETFROM:+0100
TZOFFSETTO:+0200
TZNAME:CEST
DTSTART:20240331T010000
END:DAYLIGHT
BEGIN:STANDARD
TZOFFSETFROM:+0200
TZOFFSETTO:+0100
TZNAME:CET
DTSTART:20241027T010000
END:STANDARD
BEGIN:DAYLIGHT
TZOFFSETFROM:+0100
TZOFFSETTO:+0200
TZNAME:CEST
DTSTART:20250330T010000
END:DAYLIGHT
BEGIN:STANDARD
TZOFFSETFROM:+0200
TZOFFSETTO:+0100
TZNAME:CET
DTSTART:20251026T010000
END:STANDARD
BEGIN:DAYLIGHT
TZOFFSETFROM:+0100
TZOFFSETTO:+0200
TZNAME:CEST
DTSTART:20260329T010000
END:DAYLIGHT
BEGIN:STANDARD
TZOFFSETFROM:+0200
TZOFFSETTO:+0100
TZNAME:CET
DTSTART:20261025T010000
END:STANDARD
END:VTIMEZONE
BEGIN:VEVENT
DTSTART;TZID=Europe/Rome:20250929T203000
DTEND;TZID=Europe/Rome:20250929T203000
DTSTAMP:20260422T020133
CREATED:20250919T093339Z
LAST-MODIFIED:20250919T093742Z
UID:18039-1759177800-1759177800@www.associazioneaifa.it
SUMMARY:Progetto “NOI INSIEME”
DESCRIPTION:PORCIA (PN). Settembre 2025 – Aprile 2026. Al via il Progetto “NOI INSIEME” iniziativa organizzata dall’Associazione Giovanni Paolo II con il Tavolo di Comunità di Porcia. \nGli incontri si terranno alle ore 20.30 presso il Salone del Centro Pastorale Giovanni Paolo II in via delle Acacie 12 a PORCIA in provincia di Pordenone. \nIl 29 settembre 2025 Marilena Salvador\, referente Pordenone di AIFA APS -Associazione Italiana Famiglie ADHD – e Gioia Visentin\, psicoterapeuta collaboratrice di AIFA APS\, affrontano il tema “ADHD e DOP. Per superare gli appellativi che ‘etichettano’. Modi diversi di vivere la vita! Impariamo a conoscerci per imparare a volerci bene”. \n\nVisualizza la brochure
URL:https://www.associazioneaifa.it/evento/progetto-noi-insieme/
LOCATION:Salone del Centro Pastorale Giovanni Paolo II\, via delle Acacie\, 12\, Porcia (PD)\, Italy
CATEGORIES:AIFA APS
ATTACH;FMTTYPE=image/jpeg:https://www.associazioneaifa.it/wp-content/uploads/2025/09/2151939382.jpg
END:VEVENT
END:VCALENDAR