BEGIN:VCALENDAR
VERSION:2.0
PRODID:-//Associazione AIFA - ECPv6.15.20//NONSGML v1.0//EN
CALSCALE:GREGORIAN
METHOD:PUBLISH
X-ORIGINAL-URL:https://www.associazioneaifa.it
X-WR-CALDESC:Eventi per Associazione AIFA
REFRESH-INTERVAL;VALUE=DURATION:PT1H
X-Robots-Tag:noindex
X-PUBLISHED-TTL:PT1H
BEGIN:VTIMEZONE
TZID:Europe/Rome
BEGIN:DAYLIGHT
TZOFFSETFROM:+0100
TZOFFSETTO:+0200
TZNAME:CEST
DTSTART:20200329T010000
END:DAYLIGHT
BEGIN:STANDARD
TZOFFSETFROM:+0200
TZOFFSETTO:+0100
TZNAME:CET
DTSTART:20201025T010000
END:STANDARD
BEGIN:DAYLIGHT
TZOFFSETFROM:+0100
TZOFFSETTO:+0200
TZNAME:CEST
DTSTART:20210328T010000
END:DAYLIGHT
BEGIN:STANDARD
TZOFFSETFROM:+0200
TZOFFSETTO:+0100
TZNAME:CET
DTSTART:20211031T010000
END:STANDARD
BEGIN:DAYLIGHT
TZOFFSETFROM:+0100
TZOFFSETTO:+0200
TZNAME:CEST
DTSTART:20220327T010000
END:DAYLIGHT
BEGIN:STANDARD
TZOFFSETFROM:+0200
TZOFFSETTO:+0100
TZNAME:CET
DTSTART:20221030T010000
END:STANDARD
END:VTIMEZONE
BEGIN:VEVENT
DTSTART;VALUE=DATE:20211023
DTEND;VALUE=DATE:20211024
DTSTAMP:20260425T022926
CREATED:20211003T175545Z
LAST-MODIFIED:20211003T175545Z
UID:7570-1634947200-1635033599@www.associazioneaifa.it
SUMMARY:Un pomeriggio insieme!
DESCRIPTION:L’evento previsto per sabato 18 settembre è stato spostato a sabato 23 ottobre\, causa maltempo\nMONZA. Sabato 23 ottobre 2021 alle ore 14.00 AIFA Lombardia APS – Associazione Italiana Famiglie ADHD\, invita le famiglie con bambini e ragazzi con Disturbo da Deficit di Attenzione e Iperattività a passare un pomeriggio di svago presso il Parco Avventura all’interno del Parco di Monza. \nL’Area Avventura prevede un percorso per bambini dai 5 ai 10 anni (altezza fino a 115 cm) mentre i ragazzi dai 10 anni in su possono fare un percorso più impegnativo. Il contributo richiesto per ogni bambino/ragazzo è di soli € 7 a giro. Mentre i ragazzi si divertono i genitori possono rilassarsi nell’area attrezzata con ristorazione dove le nostre referenti sono a disposizione per informazioni e chiacchiere e per organizzare i prossimi incontri dei gruppi di auto mutuo aiuto. \nLe famiglie partecipanti si troveranno alle ore 14.00 all’ingresso di Biassono (MB)\, in Via Santa Maria delle Selve dove saranno accolti da Sabrina Lissoni\, referente Associazione Italiana Famiglie ADHD per Monza e Brianza. \nPer informazioni e adesioni telefonare a Sabrina Lissoni\, 334 9200651.
URL:https://www.associazioneaifa.it/evento/un-pomeriggio-insieme-2/
LOCATION:Monza\, Via Santa Maria delle Selve\, Biassono\, Italia
CATEGORIES:AIFA APS
ATTACH;FMTTYPE=image/jpeg:https://www.associazioneaifa.it/wp-content/uploads/2021/09/parco_avventura_1920.jpg
END:VEVENT
END:VCALENDAR