BEGIN:VCALENDAR
VERSION:2.0
PRODID:-//Associazione AIFA - ECPv6.15.20//NONSGML v1.0//EN
CALSCALE:GREGORIAN
METHOD:PUBLISH
X-ORIGINAL-URL:https://www.associazioneaifa.it
X-WR-CALDESC:Eventi per Associazione AIFA
REFRESH-INTERVAL;VALUE=DURATION:PT1H
X-Robots-Tag:noindex
X-PUBLISHED-TTL:PT1H
BEGIN:VTIMEZONE
TZID:Europe/Rome
BEGIN:DAYLIGHT
TZOFFSETFROM:+0100
TZOFFSETTO:+0200
TZNAME:CEST
DTSTART:20240331T010000
END:DAYLIGHT
BEGIN:STANDARD
TZOFFSETFROM:+0200
TZOFFSETTO:+0100
TZNAME:CET
DTSTART:20241027T010000
END:STANDARD
BEGIN:DAYLIGHT
TZOFFSETFROM:+0100
TZOFFSETTO:+0200
TZNAME:CEST
DTSTART:20250330T010000
END:DAYLIGHT
BEGIN:STANDARD
TZOFFSETFROM:+0200
TZOFFSETTO:+0100
TZNAME:CET
DTSTART:20251026T010000
END:STANDARD
BEGIN:DAYLIGHT
TZOFFSETFROM:+0100
TZOFFSETTO:+0200
TZNAME:CEST
DTSTART:20260329T010000
END:DAYLIGHT
BEGIN:STANDARD
TZOFFSETFROM:+0200
TZOFFSETTO:+0100
TZNAME:CET
DTSTART:20261025T010000
END:STANDARD
END:VTIMEZONE
BEGIN:VEVENT
DTSTART;TZID=Europe/Rome:20251004T090000
DTEND;TZID=Europe/Rome:20251004T190000
DTSTAMP:20260421T200850
CREATED:20250928T100734Z
LAST-MODIFIED:20250928T100734Z
UID:18074-1759568400-1759604400@www.associazioneaifa.it
SUMMARY:Dall’ombra alla luce: riconoscere l’ADHD e scoprire come conviverci
DESCRIPTION:CASTELVETRANO (TP). Sabato 4 ottobre 2025. “Dall’ombra alla luce: riconoscere l’ADHD e scoprire come conviverci” è il convegno organizzato da AIFA APS\, Associazione Italiana Famiglie ADHD\, nell’ambito del Raduno 2025 dell’Associazione presso Paradise Beach Resort\, Contrada Belice di Mare a Castelvetrano in provincia di Trapani. \nL’evento\, a partecipazione gratuita con iscrizione obbligatoria compilando il modulo al link: https://forms.gle/wcR1SUkD7zppf4XK9 vede il contributo di autorevoli rappresentanti della Regione Siciliana\, di specialisti rappresentanti di istituzioni sanitarie della Sicilia\, nazionali/internazionali ed ha l’obiettivo di sensibilizzare la società e diffondere la consapevolezza sul Disturbo da Deficit di Attenzione/Iperattività. \nIl Programma: \nPrima sessione – Moderatore: Renata Rizzo\n9.00 Presentazione del convegno da parte della Presidente di AIFA APS Patrizia Stacconi e dalla Vicepresidente di AIFA APS Monica Conversano\nSaluti istituzionali: Rosalia Ventimiglia\, Assessore di Castelvetrano (TP)\, Carlo Gilistro\, membro dell’Assemblea Regionale Siciliana\n9.30 ADHD: chi non lo conosce lo evita – Giancarlo Costanza\n10.00 ADHD: diagnosi e traiettorie evolutive – Anna Tobia\n10.20 Gli interventi non farmacologici con i bambini e con gli adulti – Rosalia Rinaldi\n10.50 – Coffee break\n11.20 Sindrome di Tourette ed ADHD una frequente comorbilità – Renata Rizzo\n11.40 Rischio di suicidio in presenza di Disturbi del neurosviluppo – Antonella Gagliano\n12\,10 Dalle radici alle ali – Anna Maria Malgioglio\n12.20 Art. 32 della Costituzione Italiana: Le radici della scelta in assistenza sanitaria – Giacomo Scalzo\n12.35 Discussione sulle domande selezionate\n13.00 Pausa pranzo \nSeconda sessione – Moderatore Daniele La Barbera\n15.10 Testimonianza docente scuola superiore Loredana Lo Nero\n14.30 Situazione adulti con ADHD in Italia – Patrizia Stacconi\n14.50 Testimonianze genitori: Maria Alessandra Graziano\, Concetta Debra Galvagno\n15.20 Testimonianza docente università Paola Ivana Dato (da remoto)\n15.30 ADHD nell’età adulta e comorbilità psichiatriche: riconoscere\, comprendere\, trattare – Pietro Massimiliano Virgilio\n15.50 Working together – Head\, Hart and Hormones in ADHD – Dora Wynchank\, Olanda (registrato)\n16.10 Nuove frontiere nella farmacoterapia dell’ADHD: il ruolo delle comorbilità e delle differenze di genere – Maria Grazia Figura\n16.40 Testimonianze di adulti con diagnosi di ADHD – Katia Spina e Maurizio Gaziano\n17.00 Piattaforma online per le decisioni condivise sul trattamento dell’ADHD tra pazienti\, genitori e clinici – Samuele Cortese\, Inghilterra (da remoto)\n17.20 Il Coaching ADHD in Italia: prime esperienze e casi concreti – Maria Gabriella La Porta\n17.40 Quando il sintomo è reato: la sfida di curare chi infrange la legge – Maria Gorlani\n18:00 Discussione sulle domande selezionate\n18.20 Conclusioni Daniele La Barbera\, Patrizia Stacconi\, Monica Conversano \nChi vuole pranzare e/o dormire presso il Paradise Beach Resort può prenotarsi scrivendo a booking@paradisebeachresort.it o telefonando al numero 0924 46333. \nPer info rivolgersi in orario serale a Tiziana Piazza\, referente.trapani@associazioneaifa.it – cell. 3395209640\no a Loredana Lo Nero\, referente.palermo1@associazioneaifa.it – cell. 3382194804. \nLo scopo dell’iniziativa è quello di far conoscere il Disturbo da Deficit di Attenzione/Iperattività – ADHD\, in tutte le sue forme e caratteristiche legate all’età e al genere. La giornata si inserisce nel programma creato da ADHD Europe\, già dal 2010\, per promuovere la sensibilizzazione sul Disturbo da Deficit di Attenzione/Iperattività e Ottobre è il mese della Consapevolezza sull’ADHD https://www.adhdawarenessmonth.org/. \n\nVisualizza la brochure del convegno
URL:https://www.associazioneaifa.it/evento/dallombra-alla-luce-riconoscere-ladhd-e-scoprire-come-conviverci/
LOCATION:Paradise Beach Resort\, Contrada Belice di Mare\, Castelvetrano (TP)
CATEGORIES:AIFA APS
ATTACH;FMTTYPE=image/jpeg:https://www.associazioneaifa.it/wp-content/uploads/2025/09/Raduno-AIFA-APS_Pagina_1.jpg
END:VEVENT
BEGIN:VEVENT
DTSTART;TZID=Europe/Rome:20251011T083000
DTEND;TZID=Europe/Rome:20251011T180000
DTSTAMP:20260421T200850
CREATED:20251008T150111Z
LAST-MODIFIED:20251008T150145Z
UID:18126-1760171400-1760205600@www.associazioneaifa.it
SUMMARY:ADHD NEL FUTURO
DESCRIPTION:ADHD NEL FUTURO: Appropriatezza dei trattamenti\, normative e disposizioni nazionali. Buone pratiche cliniche e organizzative\n\nROMA. Sabato 11 ottobre 2025. “ADHD NEL FUTURO: Appropriatezza dei trattamenti\, normative e disposizioni nazionali. Buone pratiche cliniche e organizzative” è il convegno organizzato da AIFA APS\, Associazione Italiana Famiglie ADHD che si svolge sabato 11 ottobre 2025 dalle ore 8.30 alle 17.00 presso l’Hotel Roma Aurelia Antica\, via Degli Aldobrandeschi\, 223. \nL’evento ad ingresso gratuito\, previa iscrizione al link https://forms.gle/y5rkFSkQxjQtTcCKA \nLa giornata si inserisce nel programma creato da ADHD Europe\, già dal 2010\, per promuovere la sensibilizzazione sul Disturbo da Deficit di Attenzione/Iperattività e Ottobre è il mese della Consapevolezza sull’ADHD https://www.adhdawarenessmonth.org/. \nIl Programma: \n8.30 Registrazione partecipanti\n9.00 Saluti autorità e introduzione ai lavori dell’Associazione Italiana Famiglie ADHD\n9.30 PANSM 2025-2030 e Disturbi del Neurosviluppo – Alberto Siracusano\n10.00 Appropriatezza d’uso di medicinali innovativi e ad alto costo: I Registri di monitoraggio AIFA – Pier Paolo Olimpieri\n10.30 DUS e ADHD\, quale relazione? – Fabio Lugoboni\n11.00 Coffee break\n11.30 ADHD e DUS: diagnosi e psicoterapia – Lorenzo Zamboni\n12.00 Le Linee di indirizzo regionali per il trattamento dell’ADHD. Regione Lazio DGR 292 2025 – Vincenzina Ancona\n12.30 Organizzazione dei servizi per la migliore presa in carico dei pazienti in ambito Salute Mentale dall’età evolutiva all’età adulta – Marco Nuti\n13.00 Pausa pranzo\n14.00 La relazione educativa con l’alunno con ADHD – Veronica Scaffidi\n14.30 Disturbi del Neurosviluppo: mancata diagnosi in età evolutiva come si complica il quadro clinico in età adulta – Salvatore Rizzato\n15.00 Diagnosi e presa in carico terapeutica delle persone adulte con ADHD. L’esperienza dell’Azienda USL Toscana Sud Est: una rete che va dall’età evolutiva all’età adulta – Tiziana Attala (da confermare)\n15.30 Psicoeducazione nell’ADHD dell’adulto – Emanuele Preziosi\n16.00 Presentazione dell’applicazione Oli-help specifica per insegnanti – Valeria Della Rosa\n16.30 Piattaforma online per le decisioni condivise sul trattamento dell’ADHD tra pazienti\, genitori e clinici – Samuele Cortese (registrato)\n17.00 Interventi di AIFA APS e testimonianze\n17.30 Conclusioni \nPartecipazione gratuita con iscrizione obbligatoria compilando il modulo al link:\nhttps://forms.gle/y5rkFSkQxjQtTcCKA \nPer informazioni:\nFrancesca Tocci\, referente.roma4@associazioneaifa.it\nRomina Proietti Toppi\, referente.roma3@associazioneaifa.it \n\nVisualizza la brochure col programma \n  \nL’iniziativa si svolge in ottobre\, mese della consapevolezza sull’ADHD\, che nel 2025 ha come slogan “I Molti Volti dell’ADHD” – https://www.adhdawarenessmonth.org.
URL:https://www.associazioneaifa.it/evento/adhd-nel-futuro/
LOCATION:Hotel Roma Aurelia Antica\, via Degli Aldobrandeschi\, 223\, Roma\, Italy
CATEGORIES:AIFA APS
ATTACH;FMTTYPE=image/jpeg:https://www.associazioneaifa.it/wp-content/uploads/2025/10/ADHD-nel-Futuro-Roma-11-ottobre-2025.jpg
END:VEVENT
BEGIN:VEVENT
DTSTART;TZID=Europe/Rome:20251011T150000
DTEND;TZID=Europe/Rome:20251011T180000
DTSTAMP:20260421T200850
CREATED:20251001T154202Z
LAST-MODIFIED:20251001T154202Z
UID:18098-1760194800-1760205600@www.associazioneaifa.it
SUMMARY:Comprendere l’ADHD: Famiglia\, scuola e territorio
DESCRIPTION:MORCIANO DI ROMAGNA (RN) – Sabato 11 ottobre 2025 “Comprendere l’ADHD: Famiglia\, scuola e territorio” è l’incontro informativo organizzato da AIFA APS\, Associazione Italiana Famiglie ADHD e la Cooperativa Il Gesto\, dalle ore 15.00 alle ore 18.00 presso Spazio Il Cerchio – Via Colombari 68F\, Morciano di Romagna in provincia di Rimini. \nOttobre è il mese della consapevolezza sull’ADHD\, obiettivo dell’iniziativa è viverlo insieme con un incontro aperto a tutti: famiglie\, insegnanti\, operatori\, cittadini.\nUn pomeriggio per capire meglio cos’è l’ADHD\, ascoltare testimonianze\, conoscere i servizi e le azioni che il territorio mette in campo\, confrontarsi con esperti e creare comunità. \nProgramma dell’incontro: \nore 15:00 Apertura e saluti iniziali\nAnna Maria Cava\, referente AIFA APS Emilia-Romagna\nMarco Arcangeli\, presidente Il Gesto coop. sociale \nore 15:15 Cos’è l’ADHD e il suo impatto in ambito sociale\, familiare e scolastico \nMichela Mascarucci\, psicoterapeuta U.O. Neuropsichiatria Infanzia e Adolescenza Morciano di Romagna (RN) \nore 15:45 Le azioni sociali sul territorio: supporto e inclusione\nMaria Pia Baiocchi\, neuropsichiatra Direttore Responsabile gestione della transizione all’Età Adulta Ausl di Rimini \nore 16:15 Vivere con l’ADHD: la mia storia \nIlenia Nanni\, referente AIFA APS Rimini \nore 16:30 ADHD e salute mentale: continuità e prospettive di cura\nRiccardo Sabatelli\, psichiatra Direttore U.O. Centro Salute Mentale Ausl di Rimini   \nore 17:00 Spazio domande e confronto con i relatori \nore 17:30 Aperitivo conviviale offerto  \nPartecipazione gratuita\, aperta a tutti\nUn’occasione per crescere insieme\, creare consapevolezza e favorire una comunità educante. \nInfo: \nreferente.emiliaromagna@associazioneaifa.it  | info@ilgesto.eu \n\nL’iniziativa si svolge in ottobre\, mese della consapevolezza sull’ADHD\, che nel 2025 ha come slogan “I Molti Volti dell’ADHD” – https://www.adhdawarenessmonth.org. \n \n\nVisualizza la locandina
URL:https://www.associazioneaifa.it/evento/comprendere-ladhd-famiglia-scuola-e-territorio/
LOCATION:Spazio Il Cerchio\, Via Colombari\, 68F\, Morciano di Romagna (RN)
CATEGORIES:AIFA APS
ATTACH;FMTTYPE=image/jpeg:https://www.associazioneaifa.it/wp-content/uploads/2025/10/Incontro-Romagna.jpg
END:VEVENT
BEGIN:VEVENT
DTSTART;TZID=Europe/Rome:20251017T153000
DTEND;TZID=Europe/Rome:20251017T173000
DTSTAMP:20260421T200850
CREATED:20251013T150037Z
LAST-MODIFIED:20251013T150301Z
UID:18156-1760715000-1760722200@www.associazioneaifa.it
SUMMARY:Dei… diritti e delle pene
DESCRIPTION:Perugia\, 17 ottobre 2025 ore 15\,30 – Sala della Vaccara – Palazzo dei Priori \nLibero Ingresso – senza prenotazione \nTavola Rotonda “Dei… diritti e delle pene” \nIl tema dell’incontro\, patrocinato dal Comune di Perugia\, è la Legge 68/99\, con particolare riferimento a coloro che iscritti al collocamento mirato da più lustri\, sono in attesa che sia loro reso lavoro e dignità da… ieri. \nPer costoro\, oggi perlopiù ultra-maggiorenni\, il Progetto di Vita di cui alla legge 328/2000 e al d.lgs. 62/2024 arriva sin troppo tardi\, al punto che molti di essi oltre che ad essere usciti dai servizi e quindi dalle terapie\, rifiutano di partecipare a qualsiasi progettualità insieme ad ulteriori opportunità formative\, le uniche e purtroppo inadeguate risposte che sono state date in questi anni\, e che non hanno poi portato a risultati tangibili. \nDopo i saluti istituzionali dell’Assessora al Sociale del Comune di Perugia Costanza SPERA\, di Patrizia STACCONI – Presidente Nazionale dell’Associazione Italiana Famiglie ADHD e l’incipit di Paolo DE LUCA – Referente per l’Umbria di (AIFA APS) ne discuteranno: \n– Gianfranco DE ROBERTIS – Tecnico Esperto delegato dal Ministro della Disabilità \n– Francesco DE REBOTTI – Assessore Regionale Umbria alle Politiche del Lavoro \n– Massimo ROLLA – Garante Diritti delle Persone con Disabilità Umbria \n– Antonio Maria DI MARCO PIZZONGOLO – Direttore Regionale INPS Umbria \n– Andrea BERNARDONI – Presidente Legacoop Sociali Umbria \n– Fabio BOCCI – Servizi Specialistici della Legge 68/99 ARPAL Umbria \n Moderatore: Maria Pia SERLUPINI – già Garante Infanzia e Adolescenza dell’Umbria \n            “Nei margini si trovano le possibilità” (L. Romano) \nUn evento organizzato dalla Sede Territoriale per l’Umbria di AIFA APS Info: 328 6650216 – referente.umbria@associazioneaifa.it \nL’incontro verrà registrato e reso disponibile sul canale YouTube dell’Associazione AIFA: www.youtube.com/@aifaaps \nL’iniziativa si svolge in ottobre\, mese della consapevolezza sull’ADHD\, che nel 2025 ha come slogan:\n“I Molti Volti dell’ADHD”\nhttps://www.adhdawarenessmonth.org. \n \n\nVisualizza la locandina
URL:https://www.associazioneaifa.it/evento/dei-diritti-e-delle-pene/
LOCATION:Palazzo dei Priori\, Piazza IV Novembre\, Perugia\, Italy
CATEGORIES:AIFA APS
ATTACH;FMTTYPE=image/jpeg:https://www.associazioneaifa.it/wp-content/uploads/2025/10/Dei.-diritti-e-delle-pene.jpg
END:VEVENT
BEGIN:VEVENT
DTSTART;VALUE=DATE:20251018
DTEND;VALUE=DATE:20251020
DTSTAMP:20260421T200850
CREATED:20251012T103638Z
LAST-MODIFIED:20251012T103858Z
UID:18142-1760745600-1760918399@www.associazioneaifa.it
SUMMARY:AIFA APS in Fiera di San Simone – Codroipo 2025
DESCRIPTION:CODROIPO (UD). 18-19 e 25-26 ottobre 2024 FIERA DI SAN SIMONE \nAnche quest’anno AIFA APS\, Associazione Italiana Famiglie ADHD\, partecipa alla fiera di San Simone! \nDopo il successo dello scorso anno le referenti di AIFA APS in Friuli-Venezia Giulia saranno nuovamente presenti alla Fiera di San Simone\, organizzata dal comune di Codroipo\, in provincia di Udine\, per il 18-19 e 25-26 ottobre 2025. \nAppuntamento presso lo stand di AIFA APS in piazza Garibaldi dove sarà disponibile materiale informativo\, libri e tanto altro e conoscere le attività dell’Associazione Italiana Famiglie ADHD. \nIn particolare non mancate domenica 26 ottobre dalle ore 15.00 alle ore 18.00 Truccabimbi e Spettacolo bolle di Manuela Castello. Vi aspettiamo! \nPer informazioni contattare:\nEnrica Capitanio\, cel. +39 339 438 3588\nreferente.udine1@associazioneaifa.it \nL’iniziativa si svolge in ottobre\, mese della consapevolezza sull’ADHD\, che nel 2025 ha come slogan:\n“I Molti Volti dell’ADHD”\nhttps://www.adhdawarenessmonth.org. \n \n\nVisualizza la locandina \n 
URL:https://www.associazioneaifa.it/evento/aifa-aps-in-fiera-di-san-simone-codroipo-2025/
LOCATION:Fiera di San Simone\, Piazza Garibaldi\, Codoprio (UD)\, Italy
CATEGORIES:AIFA APS
ATTACH;FMTTYPE=image/jpeg:https://www.associazioneaifa.it/wp-content/uploads/2025/10/codoprio.jpg
END:VEVENT
BEGIN:VEVENT
DTSTART;TZID=Europe/Rome:20251018T150000
DTEND;TZID=Europe/Rome:20251018T180000
DTSTAMP:20260421T200850
CREATED:20251008T145642Z
LAST-MODIFIED:20251008T145642Z
UID:18120-1760799600-1760810400@www.associazioneaifa.it
SUMMARY:Sport e ADHD: Energia in Movimento
DESCRIPTION:Sport e ADHD: Energia in Movimento a Castello dell’Acqua (SO): nei due pomeriggi di sabato 18 e 25 ottobre 2025 AIFA Lombardia APS – Associazione Italiana Famiglie ADHD\, in collaborazione con A.S.D. Calcio Valtellina ed il Centro Arco di Sondrio offre ai ragazzi tra i 6 e 14 anni con e senza ADHD la possibilità di esercitarsi con la propedeutica sportiva volta a migliorare la concentrazione e a favorire il gioco di squadra in varie pratiche sportive\, guidati dall’allenatore Ermanno Maranga e dal personale educativo esperto del Centro Arco di Sondrio. \nLa partecipazione ai due pomeriggi di sport è gratuita\, l’evento si svolge all’interno del progetto “Ottobre – mese della consapevolezza dell’ADHD” e si concluderà con un buffet di stuzzichini con i ragazzi e le loro famiglie. \nAl centro sportivo comunale di Castello dell’Acqua in Via del Piano dalle 15\,00 alle 18\,00 \nPer informazioni e iscrizioni contattare Marìka\, referente per Sondrio dell’Associazione AIFA APS – 392 7662046 whatsapp \n\nVisualizza la locandina \n  \nL’iniziativa si svolge in ottobre\, mese della consapevolezza sull’ADHD\, che nel 2025 ha come slogan “I Molti Volti dell’ADHD” – https://www.adhdawarenessmonth.org.
URL:https://www.associazioneaifa.it/evento/sport-e-adhd-energia-in-movimento/
LOCATION:Centro Sportivo Comunale\, Via del Piano\, Castello dell’Acqua (SO)\, Italy
CATEGORIES:AIFA APS
ATTACH;FMTTYPE=image/jpeg:https://www.associazioneaifa.it/wp-content/uploads/2025/10/Sport-e-ADHD.jpg
END:VEVENT
BEGIN:VEVENT
DTSTART;TZID=Europe/Rome:20251022T180000
DTEND;TZID=Europe/Rome:20251022T200000
DTSTAMP:20260421T200850
CREATED:20251014T151325Z
LAST-MODIFIED:20251014T151325Z
UID:18184-1761156000-1761163200@www.associazioneaifa.it
SUMMARY:Difficoltà degli alunni con ADHD e DOP – come poter intervenire
DESCRIPTION:TREZZANO sul Naviglio (MI) – Mercoledì 22 ottobre 2025 ore 18.00. “Difficoltà degli alunni con ADHD e DOP – come poter intervenire” è il titolo dell’incontro informativo organizzata da AIFA Lombardia APS\, Associazione Italiana Famiglie ADHD. \nL’evento\, ad ingresso gratuito\, aperto a genitori\, insegnanti\, educatori e chiunque voglia sapere di più sull’ADHD si svolge presso l’Istituto Comprensivo “R. FRANCESCHI”\, nella scuola secondaria di primo grado “C. Cuciniello” in Via Concordia 2/4 a Trezzano sul Naviglio. \nIl Programma:\nAntonella Petrosillo\, referente AIFA APS per Milano presenta l’Associazione Italiana Famiglie ADHD. È prevista poi la proiezione del docufilm di AIFA APS “Quando gli aeroplanini sono arancioni…”. A seguire\, l’intervento di Francesca De Salve\, psicologa collaboratrice AIFA APS\, sulle Problematiche comportamentali e difficoltà delle funzioni esecutive negli alunni con ADHD ed i più efficaci interventi a scuola e in famiglia. La serata si conclude con le risposte alle domande dal pubblico. \nNon serve iscrizione\, per informazioni contattare:\nAntonella Petrosillo\, referente AIFA APS per Milano\nreferente.milano3@associazioneaifa.it – cell. 333 033 8870 \n\nVisualizza la locandina \n\nL’iniziativa si svolge in ottobre\, mese della consapevolezza sull’ADHD\, che nel 2025 ha come slogan:\n“I Molti Volti dell’ADHD”\nhttps://www.adhdawarenessmonth.org.
URL:https://www.associazioneaifa.it/evento/difficolta-degli-alunni-con-adhd-e-dop-come-poter-intervenire/
LOCATION:C. Cuciniello\, Via Concordia 2/4\, Trezzano sul Naviglio (MI)\, Italy
CATEGORIES:AIFA APS
ATTACH;FMTTYPE=image/jpeg:https://www.associazioneaifa.it/wp-content/uploads/2025/10/137717.jpg
END:VEVENT
BEGIN:VEVENT
DTSTART;TZID=Europe/Rome:20251023T173000
DTEND;TZID=Europe/Rome:20251023T190000
DTSTAMP:20260421T200850
CREATED:20251014T151724Z
LAST-MODIFIED:20251014T151724Z
UID:18187-1761240600-1761246000@www.associazioneaifa.it
SUMMARY:ADHD nelle donne: riconoscere l’invisibile\, dare voce al sommerso
DESCRIPTION:Modena\, giovedì 23/10/2025 – In occasione della XV Edizione del MAT\, Settimana della Salute Mentale di Modena\, e nel mese della consapevolezza ADHD\, l’associazione AIFA APS promuove l’incontro “ADHD nelle donne: riconoscere l’invisibile\, dare voce al sommerso” ore 17.30-19.00 presso Associazione Casa delle Culture\, Via Wiligelmo 80\, Modena \nIl Disturbo da Deficit di Attenzione e Iperattività è stato a lungo studiato e diagnosticato prevalentemente nei maschi. Negli ultimi anni\, ricerca ed esperienza clinica evidenziano che nelle donne è spesso misconosciuto o male interpretato. Attraverso contributi clinici\, prospettive educative e neuroscientifiche\, affronteremo i segnali dell’ADHD spesso trascurati. Tante ricevono diagnosi in età adulta. Come promuovere un approccio sensibile al genere? \nIntervengono:\nFederica Gualtieri\, Jessica Bonisoli\,  AUSL Modena\, Centro ADHD per l’adulto\nGiulia Guidetti\, psicologa presso GCR-ADHD Gruppo Clinico e di Ricerca ADHD \nMaria Chiara Purcaro\, Antonella Bigi\, Anna Maria Cava\, referenti AIFA APS. \nEvento gratuito con prenotazione obbligatoria: casaculturemoadhd@gmail.com o al link  https://forms.gle/2fFs8CUkx8PJMVzT8 \nIniziativa a cura di Casa delle Culture Modena e AIFA APS – Associazione Italiana Famiglie ADHD\, con la collaborazione di GCR-ADHD Centro Clinico e di Ricerca ADHD e Dipartimento Salute Mentale AUSL di Modena. \n\nVisualizza la locandina \nL’iniziativa si svolge in ottobre\, mese della consapevolezza sull’ADHD\, che nel 2025 ha come slogan:\n“I Molti Volti dell’ADHD”\nhttps://www.adhdawarenessmonth.org.
URL:https://www.associazioneaifa.it/evento/adhd-nelle-donne-riconoscere-linvisibile-dare-voce-al-sommerso/
LOCATION:Associazione Casa delle Culture\, Via Wiligelmo 80\, Modena\, Italy
CATEGORIES:AIFA APS
ATTACH;FMTTYPE=image/jpeg:https://www.associazioneaifa.it/wp-content/uploads/2025/10/Locandina-MAT-23-ottobre.jpg
END:VEVENT
BEGIN:VEVENT
DTSTART;TZID=Europe/Rome:20251024T083000
DTEND;TZID=Europe/Rome:20251024T130000
DTSTAMP:20260421T200850
CREATED:20251017T095011Z
LAST-MODIFIED:20251017T103605Z
UID:18208-1761294600-1761310800@www.associazioneaifa.it
SUMMARY:DSA e ADHD\, costruire accoglienza e creare futuro
DESCRIPTION:Modena\, venerdì 24/10/2025 – In occasione della XV Edizione del MAT\, Settimana della Salute Mentale di Modena\, e nel mese della consapevolezza ADHD\, l’associazione AIFA APS partecipa all’incontro “DSA e ADHD\, costruire accoglienza e creare futuro”\, ore 8.30-13.00 presso l’Aula Magna ITS Fermo-Corni\, viale Leonardo da Vinci 300\, Modena. \nLa neuropsichiatria incontra studenti ed insegnanti delle scuole secondarie di secondo grado per condividere riflessioni su DSA e ADHD. Verrà posto il focus sugli aspetti evolutivi\, comportamentali ed emozionali. Attraverso relazioni\, video e attività laboratoriali verrà coinvolta la platea per riflettere sui temi proposti. Verranno coinvolte le associazioni\, l’università e rappresentanti del mondo del lavoro. \nPROGRAMMA:\n8.30 -8.45 Registrazione partecipanti\n8.45 – 9.00 Saluti delle Autorità\n9.00 – 9.20 DSA Profili di funzionamento e aspetti emozionali Karen Ceci\n9.20 – 9.35 Il punto di vista dell’associazione AID  Vittorio Melotti\n9.35-9.55 ADHD Profilo clinico e ricadute sugli apprendimenti Annalisa Barbieri\n9.55-10.10 Il punto di vista dell’associazione AIFA APS  Anna Maria Cava\n10.10-10.35 Il punto di vista della scuola secondaria di secondo grado Stefania Giovannetti\n10.35-10.50 Il punto di vista dell’Università Giacomo Guaraldi\n10.50-11.05 Uno sguardo sul futuro Simona Pedretti\n11.05-11.15 Pausa\n11.15-12.15 Reazioni…tra chimica ed emozioni. Presentazione esperimento Emilia Caselli\n12.15-12.45 Parliamone tra noi-Laboratori\n12.45-13.00 Esposizione in plenaria degli elaborati di gruppo\nDiscussione \nL’evento è rivolto ad alunni e docenti delle scuole secondarie di secondo grado. \nPromosso da AUSL\, Dipartimento di salute mentale\, settore di Neuropsichiatria Ausl di Modena\, in collaborazione con UAT Modena – Ufficio Integrazione. \n\nVisualizza il programma \n  \nL’iniziativa si svolge in ottobre\, mese della consapevolezza sull’ADHD\, che nel 2025 ha come slogan:\n“I Molti Volti dell’ADHD”\nhttps://www.adhdawarenessmonth.org.
URL:https://www.associazioneaifa.it/evento/dsa-e-adhd-costruire-accoglienza-e-creare-futuro/
LOCATION:Aula Magna ITS Fermo-Corni\, viale Leonardo da Vinci\, 300\, Modena\, Italy
CATEGORIES:AIFA APS
ATTACH;FMTTYPE=image/jpeg:https://www.associazioneaifa.it/wp-content/uploads/2025/10/MAT-24-ottobre.jpg
END:VEVENT
BEGIN:VEVENT
DTSTART;VALUE=DATE:20251025
DTEND;VALUE=DATE:20251027
DTSTAMP:20260421T200850
CREATED:20251012T104125Z
LAST-MODIFIED:20251012T104125Z
UID:18147-1761350400-1761523199@www.associazioneaifa.it
SUMMARY:AIFA APS in Fiera di San Simone – Codroipo 2025
DESCRIPTION:CODROIPO (UD). 18-19 e 25-26 ottobre 2024 FIERA DI SAN SIMONE \nAnche quest’anno AIFA APS\, Associazione Italiana Famiglie ADHD\, partecipa alla fiera di San Simone! \nDopo il successo dello scorso anno le referenti di AIFA APS in Friuli-Venezia Giulia saranno nuovamente presenti alla Fiera di San Simone\, organizzata dal comune di Codroipo\, in provincia di Udine\, per il 18-19 e 25-26 ottobre 2025. \nAppuntamento presso lo stand di AIFA APS in piazza Garibaldi dove sarà disponibile materiale informativo\, libri e tanto altro e conoscere le attività dell’Associazione Italiana Famiglie ADHD. \nIn particolare non mancate domenica 26 ottobre dalle ore 15.00 alle ore 18.00 Truccabimbi e Spettacolo bolle di Manuela Castello. Vi aspettiamo! \nPer informazioni contattare:\nEnrica Capitanio\, cel. +39 339 438 3588\nreferente.udine1@associazioneaifa.it \nL’iniziativa si svolge in ottobre\, mese della consapevolezza sull’ADHD\, che nel 2025 ha come slogan:\n“I Molti Volti dell’ADHD”\nhttps://www.adhdawarenessmonth.org. \n \n\nVisualizza la locandina \n 
URL:https://www.associazioneaifa.it/evento/aifa-aps-in-fiera-di-san-simone-codroipo-2025-2/
LOCATION:Fiera di San Simone\, Piazza Garibaldi\, Codoprio (UD)\, Italy
CATEGORIES:AIFA APS
ATTACH;FMTTYPE=image/jpeg:https://www.associazioneaifa.it/wp-content/uploads/2025/10/codoprio.jpg
END:VEVENT
BEGIN:VEVENT
DTSTART;TZID=Europe/Rome:20251025T150000
DTEND;TZID=Europe/Rome:20251025T180000
DTSTAMP:20260421T200850
CREATED:20251008T145751Z
LAST-MODIFIED:20251008T145751Z
UID:18124-1761404400-1761415200@www.associazioneaifa.it
SUMMARY:Sport e ADHD: Energia in Movimento
DESCRIPTION:Sport e ADHD: Energia in Movimento a Castello dell’Acqua (SO): nei due pomeriggi di sabato 18 e 25 ottobre 2025 AIFA Lombardia APS – Associazione Italiana Famiglie ADHD\, in collaborazione con A.S.D. Calcio Valtellina ed il Centro Arco di Sondrio offre ai ragazzi tra i 6 e 14 anni con e senza ADHD la possibilità di esercitarsi con la propedeutica sportiva volta a migliorare la concentrazione e a favorire il gioco di squadra in varie pratiche sportive\, guidati dall’allenatore Ermanno Maranga e dal personale educativo esperto del Centro Arco di Sondrio. \nLa partecipazione ai due pomeriggi di sport è gratuita\, l’evento si svolge all’interno del progetto “Ottobre – mese della consapevolezza dell’ADHD” e si concluderà con un buffet di stuzzichini con i ragazzi e le loro famiglie. \nAl centro sportivo comunale di Castello dell’Acqua in Via del Piano dalle 15\,00 alle 18\,00 \nPer informazioni e iscrizioni contattare Marìka\, referente per Sondrio dell’Associazione AIFA APS – 392 7662046 whatsapp \n\nVisualizza la locandina \n  \nL’iniziativa si svolge in ottobre\, mese della consapevolezza sull’ADHD\, che nel 2025 ha come slogan “I Molti Volti dell’ADHD” – https://www.adhdawarenessmonth.org.
URL:https://www.associazioneaifa.it/evento/sport-e-adhd-energia-in-movimento-2/
LOCATION:Centro Sportivo Comunale\, Via del Piano\, Castello dell’Acqua (SO)\, Italy
CATEGORIES:AIFA APS
ATTACH;FMTTYPE=image/jpeg:https://www.associazioneaifa.it/wp-content/uploads/2025/10/Sport-e-ADHD.jpg
END:VEVENT
END:VCALENDAR