BEGIN:VCALENDAR
VERSION:2.0
PRODID:-//Associazione AIFA - ECPv6.15.20//NONSGML v1.0//EN
CALSCALE:GREGORIAN
METHOD:PUBLISH
X-WR-CALNAME:Associazione AIFA
X-ORIGINAL-URL:https://www.associazioneaifa.it
X-WR-CALDESC:Eventi per Associazione AIFA
REFRESH-INTERVAL;VALUE=DURATION:PT1H
X-Robots-Tag:noindex
X-PUBLISHED-TTL:PT1H
BEGIN:VTIMEZONE
TZID:Europe/Rome
BEGIN:DAYLIGHT
TZOFFSETFROM:+0100
TZOFFSETTO:+0200
TZNAME:CEST
DTSTART:20240331T010000
END:DAYLIGHT
BEGIN:STANDARD
TZOFFSETFROM:+0200
TZOFFSETTO:+0100
TZNAME:CET
DTSTART:20241027T010000
END:STANDARD
BEGIN:DAYLIGHT
TZOFFSETFROM:+0100
TZOFFSETTO:+0200
TZNAME:CEST
DTSTART:20250330T010000
END:DAYLIGHT
BEGIN:STANDARD
TZOFFSETFROM:+0200
TZOFFSETTO:+0100
TZNAME:CET
DTSTART:20251026T010000
END:STANDARD
BEGIN:DAYLIGHT
TZOFFSETFROM:+0100
TZOFFSETTO:+0200
TZNAME:CEST
DTSTART:20260329T010000
END:DAYLIGHT
BEGIN:STANDARD
TZOFFSETFROM:+0200
TZOFFSETTO:+0100
TZNAME:CET
DTSTART:20261025T010000
END:STANDARD
END:VTIMEZONE
BEGIN:VEVENT
DTSTART;TZID=Europe/Rome:20251024T083000
DTEND;TZID=Europe/Rome:20251024T130000
DTSTAMP:20260422T032822
CREATED:20251017T095011Z
LAST-MODIFIED:20251017T103605Z
UID:18208-1761294600-1761310800@www.associazioneaifa.it
SUMMARY:DSA e ADHD\, costruire accoglienza e creare futuro
DESCRIPTION:Modena\, venerdì 24/10/2025 – In occasione della XV Edizione del MAT\, Settimana della Salute Mentale di Modena\, e nel mese della consapevolezza ADHD\, l’associazione AIFA APS partecipa all’incontro “DSA e ADHD\, costruire accoglienza e creare futuro”\, ore 8.30-13.00 presso l’Aula Magna ITS Fermo-Corni\, viale Leonardo da Vinci 300\, Modena. \nLa neuropsichiatria incontra studenti ed insegnanti delle scuole secondarie di secondo grado per condividere riflessioni su DSA e ADHD. Verrà posto il focus sugli aspetti evolutivi\, comportamentali ed emozionali. Attraverso relazioni\, video e attività laboratoriali verrà coinvolta la platea per riflettere sui temi proposti. Verranno coinvolte le associazioni\, l’università e rappresentanti del mondo del lavoro. \nPROGRAMMA:\n8.30 -8.45 Registrazione partecipanti\n8.45 – 9.00 Saluti delle Autorità\n9.00 – 9.20 DSA Profili di funzionamento e aspetti emozionali Karen Ceci\n9.20 – 9.35 Il punto di vista dell’associazione AID  Vittorio Melotti\n9.35-9.55 ADHD Profilo clinico e ricadute sugli apprendimenti Annalisa Barbieri\n9.55-10.10 Il punto di vista dell’associazione AIFA APS  Anna Maria Cava\n10.10-10.35 Il punto di vista della scuola secondaria di secondo grado Stefania Giovannetti\n10.35-10.50 Il punto di vista dell’Università Giacomo Guaraldi\n10.50-11.05 Uno sguardo sul futuro Simona Pedretti\n11.05-11.15 Pausa\n11.15-12.15 Reazioni…tra chimica ed emozioni. Presentazione esperimento Emilia Caselli\n12.15-12.45 Parliamone tra noi-Laboratori\n12.45-13.00 Esposizione in plenaria degli elaborati di gruppo\nDiscussione \nL’evento è rivolto ad alunni e docenti delle scuole secondarie di secondo grado. \nPromosso da AUSL\, Dipartimento di salute mentale\, settore di Neuropsichiatria Ausl di Modena\, in collaborazione con UAT Modena – Ufficio Integrazione. \n\nVisualizza il programma \n  \nL’iniziativa si svolge in ottobre\, mese della consapevolezza sull’ADHD\, che nel 2025 ha come slogan:\n“I Molti Volti dell’ADHD”\nhttps://www.adhdawarenessmonth.org.
URL:https://www.associazioneaifa.it/evento/dsa-e-adhd-costruire-accoglienza-e-creare-futuro/
LOCATION:Aula Magna ITS Fermo-Corni\, viale Leonardo da Vinci\, 300\, Modena\, Italy
CATEGORIES:AIFA APS
ATTACH;FMTTYPE=image/jpeg:https://www.associazioneaifa.it/wp-content/uploads/2025/10/MAT-24-ottobre.jpg
END:VEVENT
END:VCALENDAR