BEGIN:VCALENDAR
VERSION:2.0
PRODID:-//Associazione AIFA - ECPv6.15.20//NONSGML v1.0//EN
CALSCALE:GREGORIAN
METHOD:PUBLISH
X-WR-CALNAME:Associazione AIFA
X-ORIGINAL-URL:https://www.associazioneaifa.it
X-WR-CALDESC:Eventi per Associazione AIFA
REFRESH-INTERVAL;VALUE=DURATION:PT1H
X-Robots-Tag:noindex
X-PUBLISHED-TTL:PT1H
BEGIN:VTIMEZONE
TZID:Europe/Rome
BEGIN:DAYLIGHT
TZOFFSETFROM:+0100
TZOFFSETTO:+0200
TZNAME:CEST
DTSTART:20240331T010000
END:DAYLIGHT
BEGIN:STANDARD
TZOFFSETFROM:+0200
TZOFFSETTO:+0100
TZNAME:CET
DTSTART:20241027T010000
END:STANDARD
BEGIN:DAYLIGHT
TZOFFSETFROM:+0100
TZOFFSETTO:+0200
TZNAME:CEST
DTSTART:20250330T010000
END:DAYLIGHT
BEGIN:STANDARD
TZOFFSETFROM:+0200
TZOFFSETTO:+0100
TZNAME:CET
DTSTART:20251026T010000
END:STANDARD
BEGIN:DAYLIGHT
TZOFFSETFROM:+0100
TZOFFSETTO:+0200
TZNAME:CEST
DTSTART:20260329T010000
END:DAYLIGHT
BEGIN:STANDARD
TZOFFSETFROM:+0200
TZOFFSETTO:+0100
TZNAME:CET
DTSTART:20261025T010000
END:STANDARD
END:VTIMEZONE
BEGIN:VEVENT
DTSTART;VALUE=DATE:20250925
DTEND;VALUE=DATE:20250928
DTSTAMP:20260422T005330
CREATED:20250919T091940Z
LAST-MODIFIED:20250919T091940Z
UID:18029-1758758400-1759017599@www.associazioneaifa.it
SUMMARY:Salute Mentale e Medicina: percorsi di cura e di integrazione
DESCRIPTION:UDINE\, 25-26-27 settembre 2025. Presso la biblioteca dei Rizzi si svolge il Congresso Nazionale SIMA\, Società Italiana di Medicina dell’Adolescenza\, dal titolo “Salute Mentale e Medicina: percorsi di cura e di integrazione”. \nLa prima giornata è dedicata all’interazione tra malattie fisiche e disturbi psichiatrici nell’adulto. La seconda giornata si concentra sugli adolescenti\, affrontando temi come stress\, disturbi del neurosviluppo e nuove strategie terapeutiche. Infine\, la terza giornata coinvolge stakeholder e associazioni. \nIscrizione online sul sito www.depratocongressi.it sarà confermata da una e-mail inviata dalla segreteria organizzativa. \nIl congresso è gratuito e limitato ai primi 120 iscritti. Non verranno accettate iscrizioni in sede congressuale. \nResponsabili scientifici Prof. Marco Colizzi\, Direttore della SOC Clinica Psichiatrica DCA\, ASU FC\, Udine e Prof.ssa Rossella Gaudino\, Dirigente Medico della UOC Pediatria C\, AOUI\, Verona\, Presidente SIMA. \n\nVisualizza il programma delle giornate
URL:https://www.associazioneaifa.it/evento/salute-mentale-e-medicina-percorsi-di-cura-e-di-integrazione/
LOCATION:Biblioteca dei Rizzi\, Via Fausto Schiavi\, 44\, Udine\, Italy
CATEGORIES:AIFA APS
ATTACH;FMTTYPE=image/jpeg:https://www.associazioneaifa.it/wp-content/uploads/2025/09/772.jpg
END:VEVENT
BEGIN:VEVENT
DTSTART;TZID=Europe/Rome:20250926T090000
DTEND;TZID=Europe/Rome:20250926T140000
DTSTAMP:20260422T005330
CREATED:20250919T093046Z
LAST-MODIFIED:20250919T093118Z
UID:18035-1758877200-1758895200@www.associazioneaifa.it
SUMMARY:Musica senza barriere: percorsi inclusivi tra studio\, esecuzione e fruizione
DESCRIPTION:TRAPANI\, 26 settembre 2025. Presso la Biblioteca del Conservatorio di Musica di Stato “Antonio Scontrino”\, dalle ore 9.00 alle ore 14.00\, in via Francesco Sceusa 1\, è in programma il seminario: \n26 settembre 2025 «Musica senza barriere: percorsi inclusivi tra studio\, esecuzione e fruizione» a cura della Prof.ssa Paola Dato.\nIntervengono:Dott. Pio Martines\, Neuropsichiatra; M° Giuseppe Nicotra\, Docente di Pedagogia Musicale Conservatorio di Brescia\, ideatore e collaboratore per lo sviluppo del software Braille Music Editor (BME); Rossella Pizzatti\, Dottoranda in Artistic Research on Musical Heritage IMAP Conservatorio di Trapani; Anna Nicotra\, musicista non vedente\, compositrice e Dottoranda in Linguaggi dell’improvvisazione nelle musiche contemporanee Accademia Nazionale Siena Jazz; Ignazio Grillo\, consigliere regionale e sezionale UICI Unione Italiana Ciechi e Ipovedenti sezione di Trapani. \nIscrizioni entro il 23 settembre. \n\nVisualizza la locandina
URL:https://www.associazioneaifa.it/evento/musica-senza-barriere-percorsi-inclusivi-tra-studio-esecuzione-e-fruizione/
LOCATION:Biblioteca del Conservatorio di Musica di Stato “Antonio Scontrino”\, via Francesco Sceusa\, 1\, Trapani\, Italy
CATEGORIES:AIFA APS
ATTACH;FMTTYPE=image/jpeg:https://www.associazioneaifa.it/wp-content/uploads/2025/09/16084.jpg
END:VEVENT
END:VCALENDAR