BEGIN:VCALENDAR
VERSION:2.0
PRODID:-//Associazione AIFA - ECPv6.15.20//NONSGML v1.0//EN
CALSCALE:GREGORIAN
METHOD:PUBLISH
X-WR-CALNAME:Associazione AIFA
X-ORIGINAL-URL:https://www.associazioneaifa.it
X-WR-CALDESC:Eventi per Associazione AIFA
REFRESH-INTERVAL;VALUE=DURATION:PT1H
X-Robots-Tag:noindex
X-PUBLISHED-TTL:PT1H
BEGIN:VTIMEZONE
TZID:Europe/Rome
BEGIN:DAYLIGHT
TZOFFSETFROM:+0100
TZOFFSETTO:+0200
TZNAME:CEST
DTSTART:20220327T010000
END:DAYLIGHT
BEGIN:STANDARD
TZOFFSETFROM:+0200
TZOFFSETTO:+0100
TZNAME:CET
DTSTART:20221030T010000
END:STANDARD
BEGIN:DAYLIGHT
TZOFFSETFROM:+0100
TZOFFSETTO:+0200
TZNAME:CEST
DTSTART:20230326T010000
END:DAYLIGHT
BEGIN:STANDARD
TZOFFSETFROM:+0200
TZOFFSETTO:+0100
TZNAME:CET
DTSTART:20231029T010000
END:STANDARD
BEGIN:DAYLIGHT
TZOFFSETFROM:+0100
TZOFFSETTO:+0200
TZNAME:CEST
DTSTART:20240331T010000
END:DAYLIGHT
BEGIN:STANDARD
TZOFFSETFROM:+0200
TZOFFSETTO:+0100
TZNAME:CET
DTSTART:20241027T010000
END:STANDARD
END:VTIMEZONE
BEGIN:VEVENT
DTSTART;TZID=Europe/Rome:20231005T150000
DTEND;TZID=Europe/Rome:20231005T190000
DTSTAMP:20260421T174737
CREATED:20230915T182144Z
LAST-MODIFIED:20231007T094516Z
UID:15154-1696518000-1696532400@www.associazioneaifa.it
SUMMARY:Attenti all’ADHD
DESCRIPTION:Attenti all’ADHD\n\nPERUGIA. 5 ottobre 2023. “Attenti all’ADHD\, Il Disturbo da Deficit di Attenzione/Iperattività all’università” è il convegno organizzato dall’Università degli Studi di Perugia (https://www.unipg.it/eventi?day=2023-10-05) in collaborazione con AIFA APS\, Associazione Italiana Famiglie ADHD\, alle ore 15.00 presso il Rettorato\, in piazza dell’Università\, 1. \nProgramma: \n\nore 15:00 Saluti delle autorità MAURIZIO OLIVIERO – Rettore Università degli Studi di Perugia; PATRIZIA STACCONI – Presidente Nazionale Associazione Italiana Famiglie ADHD (AIFA APS)\nore 15:15 MARIA GIOVANNA FERRERA – Studentessa Università degli Studi di Perugia: L’ADHD non scompare a diciott’anni: conviverci in un mondo tipico\, tra vincoli e possibilità e complessità\nore 15:25 PIETRO DE ROSSI – Psichiatra\, UOC Neuropsichiatria dell’Infanzia e dell’Adolescenza\, Ospedale Pediatrico Bambino Gesù di Roma e Membro dello European Network Adult ADHD: L’ADHD dall’infanzia all’età adulta\nore 16:10 CLAUDIA MAZZESCHI – Ordinaria di Psicologia dinamica\, Università degli Studi di Perugia: Autostima – Impulsività – Difficoltà di autoregolazione\nore 16:45 DANIELE ROSELLINI – Referente di Ateneo per la disabilità e i DSA: Il protocollo UNIPG – AIFA APS\nore 16:55 MOIRA SANNIPOLI – Associata di Didattica e Pedagogia Speciale\, Università degli Studi di Perugia: Costruire prassi inclusive: riconoscere e non elemosinare\nore 17:05 CHIARA PISTECCHIA – Studentessa Università degli Studi di Perugia: ADHD: una diagnosi come occasione per evolvere ore\n17:15 ALFONSO ANTONIO VINCENZO TORTORELLA – Responsabile Sezione di Psichiatria\, Psicologia Clinica e Riabilitazione Psichiatrica – Dipartimento di Medicina e Chirurgia – Università degli Studi di Perugia: ADHD e Dipendenze\nore 17:35 MARIA PIA SERLUPINI – Già Garante dell’Infanzia e dell’Adolescenza della Regione Umbria: L’importanza del lavoro in rete nella costruzione di prese in carico integrate\nore 17:50 PAOLO DE LUCA – Referente per l’Umbria dell’Associazione Italiana Famiglie ADHD – AIFA APS: L’ADHD in Umbria. Casi attesi\, ed il lungo cammino perché il disturbo possa trovare cittadinanza\nore 18:00 Sessione di domande e risposte\, modera MARIO TOSTI – Delegato del Rettore per il settore Umane Risorse – Università degli Studi di Perugia\n\n\nScarica la locandina
URL:https://www.associazioneaifa.it/evento/attenti-alladhd/
LOCATION:Rettorato\, Piazza dell’Università\, 1\, Perugia\, Italia
CATEGORIES:AIFA APS
ATTACH;FMTTYPE=image/jpeg:https://www.associazioneaifa.it/wp-content/uploads/2023/09/Attenti-allADHD-gigapixel-hq-width-1920px.jpg
END:VEVENT
END:VCALENDAR