BEGIN:VCALENDAR
VERSION:2.0
PRODID:-//Associazione AIFA - ECPv6.15.20//NONSGML v1.0//EN
CALSCALE:GREGORIAN
METHOD:PUBLISH
X-WR-CALNAME:Associazione AIFA
X-ORIGINAL-URL:https://www.associazioneaifa.it
X-WR-CALDESC:Eventi per Associazione AIFA
REFRESH-INTERVAL;VALUE=DURATION:PT1H
X-Robots-Tag:noindex
X-PUBLISHED-TTL:PT1H
BEGIN:VTIMEZONE
TZID:Europe/Rome
BEGIN:DAYLIGHT
TZOFFSETFROM:+0100
TZOFFSETTO:+0200
TZNAME:CEST
DTSTART:20220327T010000
END:DAYLIGHT
BEGIN:STANDARD
TZOFFSETFROM:+0200
TZOFFSETTO:+0100
TZNAME:CET
DTSTART:20221030T010000
END:STANDARD
BEGIN:DAYLIGHT
TZOFFSETFROM:+0100
TZOFFSETTO:+0200
TZNAME:CEST
DTSTART:20230326T010000
END:DAYLIGHT
BEGIN:STANDARD
TZOFFSETFROM:+0200
TZOFFSETTO:+0100
TZNAME:CET
DTSTART:20231029T010000
END:STANDARD
BEGIN:DAYLIGHT
TZOFFSETFROM:+0100
TZOFFSETTO:+0200
TZNAME:CEST
DTSTART:20240331T010000
END:DAYLIGHT
BEGIN:STANDARD
TZOFFSETFROM:+0200
TZOFFSETTO:+0100
TZNAME:CET
DTSTART:20241027T010000
END:STANDARD
END:VTIMEZONE
BEGIN:VEVENT
DTSTART;TZID=Europe/Rome:20230325T080000
DTEND;TZID=Europe/Rome:20230325T180000
DTSTAMP:20260422T080001
CREATED:20230216T101327Z
LAST-MODIFIED:20230216T101327Z
UID:14425-1679731200-1679767200@www.associazioneaifa.it
SUMMARY:ADHD e PSICHIATRIA- Comportamenti devianti e conseguenze giuridiche
DESCRIPTION:ADHD e PSICHIATRIA- Comportamenti devianti e conseguenze giuridiche\n\nMILANO. 25/03/2023 – “ADHD e PSICHIATRIA – Comportamenti devianti e conseguenze giuridiche” è il titolo del 4° convegno regionale di AIFA Lombardia APS\, Associazione Italiana Famiglie ADHD\, organizzato in collaborazione con l’Università Cattolica del Sacro Cuore di Milano presso l’aula Sant’Agostino dell’Ateneo in largo Gemelli 1\, dalle ore 8.00 (apertura registrazione) fino alle ore 18.00. \nLa partecipazione è gratuita\, previa iscrizione al link https://bit.ly/adhd_e_psichiatria \nL’ADHD nell’adulto comporta diversi gradi di difficoltà di adattamento. Spesso la condizione patologica del paziente non si limita all’ADHD ma presenta disturbi psichiatrici associati (comorbilità) che peggiorano la qualità di vita della persona. A volte tali pazienti sviluppano\, nel corso della vita\, percorsi che portano alle dipendenze\, all’autolesionismo\, a comportamenti pericolosi\, a rischio di suicidio e in alcuni casi a commettere reati. Di frequente si tratta di persone che hanno avuto una diagnosi tardiva e\, senza l’appropriata presa in carico\, spesso arrivati all’età adulta non aderiscono alle cure proposte. \nPer contrastare queste traiettorie evolutive negative\, sia nei minori che nei giovani adulti\, andrebbero utilizzati dal Servizio Sanitario Nazionale tutti gli strumenti efficaci di presa in carico. Le risorse sono poche rispetto al bisogno e spesso inadeguate. Con le risposte che le istituzioni sono in grado di fornire\, risulta difficile conciliare il diritto alla cura con la libertà individuale. Di conseguenza i pazienti restano senza terapia e i familiari rimangono praticamente soli e impossibilitati a fornire supporto ai loro congiunti. \nIl programma prevede importanti contributi\, con particolari approfondimenti circa gli aspetti legali e giuridici in caso di comportamenti problematici in età adulta: \n\n8.00 – apertura registrazione partecipanti\n9.00 – saluti delle autorità\n9.15 – ADHD nell’arco di vita: quale adattamento per l’adulto – Francesca Sgroi\, psicologa\, esperta di ADHD nell’arco della Vita\n10.00 – “Mani legate” – difficoltà di aderenza terapeutica in ADHD con gravi comorbidita’: tante domande e quali risposte? – Chiara Gori\, neurologa\, psicoterapeuta cognitivo comportamentale in formazione.\n10.30 – ADHD nella popolazione detenuta: traiettorie evolutive e possibilità di trattamento – Irene Strada\, psicologa psicoterapeuta ASST Santi Paolo e Carlo di Milano.\n11.30 – Comorbilità e terapie (farmacologiche e non) per l’ADHD – Giancarlo Giupponi\, psichiatra vicedirettore Comprensorio Sanitario Bolzano.\n12.15  – ADHD e dipendenze: fattori di vulnerabilità e implicazioni cliniche – Marco Di Nicola\, psichiatra\, UOC Policlinico Universitario Gemelli\, IRCCS Università Cattolica del Sacro Cuore di Roma.\n14.30 – Connessioni tra ADHD e comportamenti devianti: ricerca – Emanuela Saita\, psicologa professore ordinario facoltà psicologia Università Cattolica Milano – Antonia Sorge\, psicologa.\n15.00 – La difesa del soggetto psichiatrico nel procedimento penale – Varraso Gianluca\, professore ordinario diritto procedurale e penitenziario Facoltà Giurisprudenza dell’Università Cattolica di Milano.\n15.30 –  Il difficile confine tra il bisogno di cura e la difesa dell’incolumità di chi è vicino alla persona con disturbo psichiatrico autore di reato – Antonella Boschi\, avvocato civilista-famigliarista.\n16.30 – Malati psichiatrici autori di reato non aderenti alle cure: lived experience – Maria Gorlani\, madre di ragazzo con ADHD/DBP\, socia Famiglia in Rete e Urasam.\n17.00 – Quali implicazioni deontologiche per l’avvocato difensore del malato psichiatrico autore di reato? – Ernesto Sarno\, avvocato penalista\, Consiglio Ordine avvocati di Milano.\n17.30 – I meccanismi di inibizione\, dalle teorie alle pratiche – Alessandro Antonietti\, psicologo\, preside Facoltà di Psicologia Università Cattolica di Milano\n18.00 – Dibattito e chiusura.\n\nL’evento è rivolto a: professionisti della salute mentale (psicologi\, psichiatri\, neuropsichiatri\, TERPP\, in particolari dei SERD e dei Servizi di Psichiatria dell’adulto)\, avvocati\, giudici\, laureati\, forze dell’ordine\, studiosi della materia. È altresì indirizzato a familiari\, figure educative e del mondo dell’assistenza sociale\, a persone direttamente interessate. \nUlteriori informazioni possono essere richieste scrivendo una mail a referente.lombardia@associazioneaifa.it o referente.milano@associazioneaifa.it \n\nScarica la locandina col programma completo
URL:https://www.associazioneaifa.it/evento/adhd-e-psichiatria-comportamenti-devianti-e-conseguenze-giuridiche/
LOCATION:Università Cattolica del Sacro Cuore\, Largo Gemelli\, 1\, Milano\, Italia
CATEGORIES:AIFA APS
ATTACH;FMTTYPE=image/jpeg:https://www.associazioneaifa.it/wp-content/uploads/2023/02/pexels-luis-quintero-2774556.jpg
END:VEVENT
END:VCALENDAR