BEGIN:VCALENDAR
VERSION:2.0
PRODID:-//Associazione AIFA - ECPv6.15.20//NONSGML v1.0//EN
CALSCALE:GREGORIAN
METHOD:PUBLISH
X-WR-CALNAME:Associazione AIFA
X-ORIGINAL-URL:https://www.associazioneaifa.it
X-WR-CALDESC:Eventi per Associazione AIFA
REFRESH-INTERVAL;VALUE=DURATION:PT1H
X-Robots-Tag:noindex
X-PUBLISHED-TTL:PT1H
BEGIN:VTIMEZONE
TZID:Europe/Rome
BEGIN:DAYLIGHT
TZOFFSETFROM:+0100
TZOFFSETTO:+0200
TZNAME:CEST
DTSTART:20220327T010000
END:DAYLIGHT
BEGIN:STANDARD
TZOFFSETFROM:+0200
TZOFFSETTO:+0100
TZNAME:CET
DTSTART:20221030T010000
END:STANDARD
BEGIN:DAYLIGHT
TZOFFSETFROM:+0100
TZOFFSETTO:+0200
TZNAME:CEST
DTSTART:20230326T010000
END:DAYLIGHT
BEGIN:STANDARD
TZOFFSETFROM:+0200
TZOFFSETTO:+0100
TZNAME:CET
DTSTART:20231029T010000
END:STANDARD
BEGIN:DAYLIGHT
TZOFFSETFROM:+0100
TZOFFSETTO:+0200
TZNAME:CEST
DTSTART:20240331T010000
END:DAYLIGHT
BEGIN:STANDARD
TZOFFSETFROM:+0200
TZOFFSETTO:+0100
TZNAME:CET
DTSTART:20241027T010000
END:STANDARD
END:VTIMEZONE
BEGIN:VEVENT
DTSTART;TZID=Europe/Rome:20230224T183000
DTEND;TZID=Europe/Rome:20230224T203000
DTSTAMP:20260422T100625
CREATED:20230220T155647Z
LAST-MODIFIED:20230220T155755Z
UID:14523-1677263400-1677270600@www.associazioneaifa.it
SUMMARY:Aperitivo con Karaoke
DESCRIPTION:Aperitivo con Karaoke\n\nTorrevecchia Pia (PV). Venerdì 24 febbraio: Karina animazione in collaborazione con la referente AIFA APS per Lodi\, Augusta Bianchi\, propone una serata di karaoke per festeggiare la fine del carnevale ambrosiano\, presso il Bar Gelateria Iannini\, via Roma 2\, Torrevecchia Pia (PV). \nIl ricavato della serata sarà devoluto a AIFA Lombardia Aps\, Associazione Italiana Famiglie ADHD. \nIngresso € 15 adulti e a consumazione per bambini. \nPer prenotare contattare Augusta Bianchi referente.lodi@associazioneaifa.it cel. 393 5489424 oppure 349 7169725. \n\nScarica la locandina
URL:https://www.associazioneaifa.it/evento/aperitivo-con-karaoke/
LOCATION:Bar Gelateria Iannini\, Via Roma\, 2\, Torrevecchia Pia (PV)\, Italia
CATEGORIES:AIFA APS
ATTACH;FMTTYPE=image/jpeg:https://www.associazioneaifa.it/wp-content/uploads/2023/02/carnival-gdb3648d70_1920.jpg
END:VEVENT
END:VCALENDAR