BEGIN:VCALENDAR
VERSION:2.0
PRODID:-//Associazione AIFA - ECPv6.15.20//NONSGML v1.0//EN
CALSCALE:GREGORIAN
METHOD:PUBLISH
X-WR-CALNAME:Associazione AIFA
X-ORIGINAL-URL:https://www.associazioneaifa.it
X-WR-CALDESC:Eventi per Associazione AIFA
REFRESH-INTERVAL;VALUE=DURATION:PT1H
X-Robots-Tag:noindex
X-PUBLISHED-TTL:PT1H
BEGIN:VTIMEZONE
TZID:Europe/Rome
BEGIN:DAYLIGHT
TZOFFSETFROM:+0100
TZOFFSETTO:+0200
TZNAME:CEST
DTSTART:20220327T010000
END:DAYLIGHT
BEGIN:STANDARD
TZOFFSETFROM:+0200
TZOFFSETTO:+0100
TZNAME:CET
DTSTART:20221030T010000
END:STANDARD
BEGIN:DAYLIGHT
TZOFFSETFROM:+0100
TZOFFSETTO:+0200
TZNAME:CEST
DTSTART:20230326T010000
END:DAYLIGHT
BEGIN:STANDARD
TZOFFSETFROM:+0200
TZOFFSETTO:+0100
TZNAME:CET
DTSTART:20231029T010000
END:STANDARD
BEGIN:DAYLIGHT
TZOFFSETFROM:+0100
TZOFFSETTO:+0200
TZNAME:CEST
DTSTART:20240331T010000
END:DAYLIGHT
BEGIN:STANDARD
TZOFFSETFROM:+0200
TZOFFSETTO:+0100
TZNAME:CET
DTSTART:20241027T010000
END:STANDARD
END:VTIMEZONE
BEGIN:VEVENT
DTSTART;TZID=Europe/Rome:20230217T170000
DTEND;TZID=Europe/Rome:20230217T200000
DTSTAMP:20260422T100535
CREATED:20230203T183151Z
LAST-MODIFIED:20230203T183151Z
UID:14346-1676653200-1676664000@www.associazioneaifa.it
SUMMARY:“Hyper-Attivo Amore” L’evento di coloro che hanno un cuore grande
DESCRIPTION:“Hyper-Attivo Amore” L’evento di coloro che hanno un cuore grande\n\nTerni\, venerdì 17 febbraio 2023 – ore 17\,00\nSala Caffè Letterario della BCT-Biblioteca Comunale Terni Piazza della Repubblica\, 1 – Ingresso Gratuito \nHyper-Attivo Amore\, è un evento realizzato da AIFA APS\, patrocinato dal Comune di Terni e inserito negli Eventi Valentiniani 2023\, dove personaggi della musica\, dell’arte\, dello sport\, della cultura e della scienza\, si intrecceranno con il vissuto quotidiano delle persone\, per raccontare l’Amore e il Disturbo da Deficit di Attenzione e Iperattività (ADHD). \nDopo il saluto delle autorità\, sono previsti gli interventi di:\nCAIO\, rapper – Sandra CECCARELLI\, scrittrice – CLAUDIA J.\, cantante – Francesco DE DOMINICIS\, psichiatra – Paolo DE LUCA\, referente Umbria AIFA APS – Stefano de MAIO\, attore – Alessio FOCONI\, schermidore – Silvia PILARDI\, psicologa –  Marco REA\, musicista – Moira SANNIPOLI\, prof.ssa UNIPG – Maria Luce SCHILLACI\, giornalista – Maria Pia SERLUPINI\, insegnante – Riccardo ZAMPAGNA\, calciatore. \nL’evento poromosso da AIFA APS\, Associaizone Italiana Famiglie ADHD\, è realizzato grazie al contributo della Fondazione Fulvio Sbrolli. \nPer informazioni:\nPaolo De Luca\, referente Umbria AIFA APS\ncel. 328 6650216 – referente.umbria@associazioneaifa.it \n\n Scarica la locandina
URL:https://www.associazioneaifa.it/evento/hyperattivo-amore/
LOCATION:BCT-Biblioteca Comunale Terni\, Piazza della Repubblica\, 1\, Terni\, Italia
CATEGORIES:AIFA APS
ATTACH;FMTTYPE=image/jpeg:https://www.associazioneaifa.it/wp-content/uploads/2023/02/pexels-jasmine-carter-613321.jpg
END:VEVENT
END:VCALENDAR