BEGIN:VCALENDAR
VERSION:2.0
PRODID:-//Associazione AIFA - ECPv6.15.20//NONSGML v1.0//EN
CALSCALE:GREGORIAN
METHOD:PUBLISH
X-ORIGINAL-URL:https://www.associazioneaifa.it
X-WR-CALDESC:Eventi per Associazione AIFA
REFRESH-INTERVAL;VALUE=DURATION:PT1H
X-Robots-Tag:noindex
X-PUBLISHED-TTL:PT1H
BEGIN:VTIMEZONE
TZID:Europe/Rome
BEGIN:DAYLIGHT
TZOFFSETFROM:+0100
TZOFFSETTO:+0200
TZNAME:CEST
DTSTART:20210328T010000
END:DAYLIGHT
BEGIN:STANDARD
TZOFFSETFROM:+0200
TZOFFSETTO:+0100
TZNAME:CET
DTSTART:20211031T010000
END:STANDARD
BEGIN:DAYLIGHT
TZOFFSETFROM:+0100
TZOFFSETTO:+0200
TZNAME:CEST
DTSTART:20220327T010000
END:DAYLIGHT
BEGIN:STANDARD
TZOFFSETFROM:+0200
TZOFFSETTO:+0100
TZNAME:CET
DTSTART:20221030T010000
END:STANDARD
BEGIN:DAYLIGHT
TZOFFSETFROM:+0100
TZOFFSETTO:+0200
TZNAME:CEST
DTSTART:20230326T010000
END:DAYLIGHT
BEGIN:STANDARD
TZOFFSETFROM:+0200
TZOFFSETTO:+0100
TZNAME:CET
DTSTART:20231029T010000
END:STANDARD
END:VTIMEZONE
BEGIN:VEVENT
DTSTART;TZID=Europe/Rome:20221001T090000
DTEND;TZID=Europe/Rome:20221001T130000
DTSTAMP:20260422T174436
CREATED:20220915T135840Z
LAST-MODIFIED:20220915T135840Z
UID:13688-1664614800-1664629200@www.associazioneaifa.it
SUMMARY:ADHD parliamone. Cos’è l’ADHD?
DESCRIPTION:ADHD parliamone. Cos’è l’ADHD?\nNOVARA. 1 ottobre 2022. “ADHD parliamone. Cos’è l’ADHD?” è il seminario organizzato da AIFA APS\, Associazione Italiana Famiglie ADHD\, il primo sabato di ottobre. \nL’evento si svolgerà in presenza presso il Convitto Nazionale Carlo Alberto\, in via Baluardo Partigiani\, 6. \nIngresso libero previa iscrizione al seguente link: https://forms.gle/p6aC94tJYYuHqp67A   \nIl programma: \n\nore 9:00 – Registrazione dei partecipanti.\nOre 9:30 – Saluti e presentazione Associazione Italiana Famiglie ADHD\, Nicoleta Pirlea\, Referente Piemonte AIFA APS.\nOre 9:45 – L’ADHD – Disturbo da Deficit di Attenzione e Iperattività: Aspetti clinici\, Iter diagnostico e trattamento multimodale”\, Fulvio Guccione\, neuropsichiatra.\nOre 10:30 – L’ADHD nella vita da adulto\, Francesco Oliva\, psichiatra.\nOre 11:15 – Tecniche specifiche di intervento psicoeducativo comportamentale\, strategie e intervento negli ambienti familiari e scolastici\, Emanuela Grandinetti\, psicologa.\nOre 12:00 – Dibattito e chiusura lavori.\n\nInfo e contatti: Nicoleta Pirlea\, Referente Piemonte AIFA APS\, cel. 348.7042658 ed Eva Cappella cel. 347.9786394. \nIl seminario “ADHD parliamone. Cos’è l’ADHD?” si svolge nell’ambito dell’edizione 2022 di “Ottobre mese della consapevolezza sull’ADHD”\,  October 2022 ADHD Awareness Month\, www.adhdawarenessmonth.org\n \n\nScarica la locandina
URL:https://www.associazioneaifa.it/evento/adhd-parliamone-cose-ladhd/
LOCATION:Novara\, via Baluardo Partigiani\, 6\, Novara\, Italia
CATEGORIES:AIFA APS
ATTACH;FMTTYPE=image/jpeg:https://www.associazioneaifa.it/wp-content/uploads/2022/09/pexels-matheus-bertelli-3321789.jpg
END:VEVENT
BEGIN:VEVENT
DTSTART;TZID=Europe/Rome:20221001T100000
DTEND;TZID=Europe/Rome:20221001T130000
DTSTAMP:20260422T174436
CREATED:20220917T103337Z
LAST-MODIFIED:20220917T104417Z
UID:13703-1664618400-1664629200@www.associazioneaifa.it
SUMMARY:"La prima gita insieme"
DESCRIPTION:“La prima gita insieme”\nBORDANO (UD). Sabato 1 ottobre 2022. “La prima gita insieme” per famiglie\, bambini e adulti con Disturbo da Deficit di Attenzione-Iperattività.  \nLe Referenti del Friuli Venezia Giulia di AIFA APS\, Associazione Italiana Famiglie ADHD\, in collaborazione con La Casa Delle Farfalle di Bordano in provincia di Udine\, in via Canada 5\, dalle ore 10.00 alle ore 13.00 organizzano la prima attività in presenza. Un’occasione di conoscenza e condivisione tra persone che affrontano quotidianamente le problematiche dell’ADHD\, Disturbo da Deficit di Attenzione/Iperattività. Costo a persona 11 euro.  \nVisita guidata gratuita inclusa per associati AIFA APS\, a cura di Francesco Barbieri. La Casa delle Farfalle di Bordano è il più grande complesso di serre tropicali in Italia\, con 2000 metri quadrati di spazi coperti. Circa 1000 ospitano serre climatizzate nelle quali sono ricostruite tre differenti tipologie di foresta tropicale: in questo straordinario ambiente centinaia di farfalle volano libere in mezzo ai visitatori.  \nLa Casa delle Farfalle si trova in un territorio estremamente ricco di biodiversità nella Pianura di Friuli Venezia Giulia.  \nSi consiglia abbigliamento comodo\, si può pranzare al chiosco\, esterno ma coperto.  \nPer informazioni: Pavlina Dyulgerova\, cel. 388.8816790\, referente.friuliveneziagiulia@associazioneaifa.it \n“La prima gita insieme” si svolge nell’ambito dell’edizione 2022 di “Ottobre mese della consapevolezza sull’ADHD”\,  October 2022 ADHD Awareness Month\, www.adhdawarenessmonth.org\n \n\nScarica la locandina
URL:https://www.associazioneaifa.it/evento/la-prima-gita-insieme/
LOCATION:Bordano\, Via Canada 5\, Bordano (UD)\, Italia
CATEGORIES:AIFA APS
ATTACH;FMTTYPE=image/jpeg:https://www.associazioneaifa.it/wp-content/uploads/2022/09/pexels-quang-nguyen-vinh-11669235.jpg
END:VEVENT
END:VCALENDAR