BEGIN:VCALENDAR
VERSION:2.0
PRODID:-//Associazione AIFA - ECPv6.15.20//NONSGML v1.0//EN
CALSCALE:GREGORIAN
METHOD:PUBLISH
X-ORIGINAL-URL:https://www.associazioneaifa.it
X-WR-CALDESC:Eventi per Associazione AIFA
REFRESH-INTERVAL;VALUE=DURATION:PT1H
X-Robots-Tag:noindex
X-PUBLISHED-TTL:PT1H
BEGIN:VTIMEZONE
TZID:Europe/Rome
BEGIN:DAYLIGHT
TZOFFSETFROM:+0100
TZOFFSETTO:+0200
TZNAME:CEST
DTSTART:20210328T010000
END:DAYLIGHT
BEGIN:STANDARD
TZOFFSETFROM:+0200
TZOFFSETTO:+0100
TZNAME:CET
DTSTART:20211031T010000
END:STANDARD
BEGIN:DAYLIGHT
TZOFFSETFROM:+0100
TZOFFSETTO:+0200
TZNAME:CEST
DTSTART:20220327T010000
END:DAYLIGHT
BEGIN:STANDARD
TZOFFSETFROM:+0200
TZOFFSETTO:+0100
TZNAME:CET
DTSTART:20221030T010000
END:STANDARD
BEGIN:DAYLIGHT
TZOFFSETFROM:+0100
TZOFFSETTO:+0200
TZNAME:CEST
DTSTART:20230326T010000
END:DAYLIGHT
BEGIN:STANDARD
TZOFFSETFROM:+0200
TZOFFSETTO:+0100
TZNAME:CET
DTSTART:20231029T010000
END:STANDARD
END:VTIMEZONE
BEGIN:VEVENT
DTSTART;TZID=Europe/Rome:20220517T204500
DTEND;TZID=Europe/Rome:20220517T230000
DTSTAMP:20260423T102004
CREATED:20220510T080301Z
LAST-MODIFIED:20220510T080614Z
UID:13188-1652820300-1652828400@www.associazioneaifa.it
SUMMARY:ADHD Un inseparabile compagno di viaggio. Conoscere per creare ben-essere
DESCRIPTION:ADHD Un inseparabile compagno di viaggio. Conoscere per creare ben-essere\nVILLAFRANCA DI VERONA. È in corso dal 2 al 30 maggio 2022 la rassegna “FAMILIARMENTE” organizzata dall’Assessorato alle Politiche Sociali e per la Famiglia ed alla quale sono coinvolte diverse altre organizzazioni del territorio. “IL TEMPO DELLA CURA“ è il tema di questa nona edizione e intende promuovere la cultura della cura quale impegno comune solidale e partecipativo per proteggere e promuovere la dignità e il bene di tutti. Per tutto il mese di maggio presenta un calendario ricco di eventi che si occupano di salute fisica e psichica\, con conferenze\, presentazioni libri\, laboratori ed eventi ludici dedicate alle famiglie. \nAll’interno di FAMILIARMENTE 2022 ci sarà un evento dedicato all’ADHD: “ADHD Un inseparabile compagno di viaggio. Conoscere per creare ben-essere” si svolge il giorno 17 maggio\, martedì\, alle ore 20.45 presso il Teatro Alda Ferrarini in Via Napoleone III° a Villafranca. \nI relatori parleranno di: \n\ndott. Leonardo Zoccante: introduzione all’ADHD\, le prime fasi di vita\ndott. Emanuele Zullini: ADHD in età evolutiva espressioni cliniche e trattamento multimodale\ndott. Giuseppe Imperadore: L’ADHD in età adulta: caratteristiche cliniche e possibilità di trattamento”\ndott.ssa Maria Lorena Turrina: Le ferite di quando sembra non vada mai bene…\ndott.ssa Laura Tutone: interventi educativi il ruolo della scuola come facilitatore.\nStefania Danzi\, referente AIFA Onlus per Verona e per il Veneto: La famiglia e l’associazione come sostegno nel percorso di vita.\n\nL’evento sarà trasmesso anche in streaming sui canali social: youtube @eventivillafranca – su fb  @eventivillafrancadiverona – su instagram @eventivillafranca. \nPer informazioni: educatrici@comune.villafranca.vr.it – 045 6339182 \nPer chi vuole consultare l’intero programma lo trova su\nhttp://www.comune.villafranca.vr.it/nqcontent.cfm?a_id=5728 \n\nScarica la locandina
URL:https://www.associazioneaifa.it/evento/adhd-un-inseparabile-compagno-di-viaggio-conoscere-per-creare-ben-essere/
LOCATION:Villafranca di Verona\, Via Napoleone III°\, Villafranca di Verona\, 37069\, Italia
ATTACH;FMTTYPE=image/jpeg:https://www.associazioneaifa.it/wp-content/uploads/2022/05/pexels-helena-lopes-697243.jpg
END:VEVENT
END:VCALENDAR