BEGIN:VCALENDAR
VERSION:2.0
PRODID:-//Associazione AIFA - ECPv6.15.20//NONSGML v1.0//EN
CALSCALE:GREGORIAN
METHOD:PUBLISH
X-WR-CALNAME:Associazione AIFA
X-ORIGINAL-URL:https://www.associazioneaifa.it
X-WR-CALDESC:Eventi per Associazione AIFA
REFRESH-INTERVAL;VALUE=DURATION:PT1H
X-Robots-Tag:noindex
X-PUBLISHED-TTL:PT1H
BEGIN:VTIMEZONE
TZID:UTC
BEGIN:STANDARD
TZOFFSETFROM:+0000
TZOFFSETTO:+0000
TZNAME:UTC
DTSTART:20210101T000000
END:STANDARD
END:VTIMEZONE
BEGIN:VEVENT
DTSTART;TZID=UTC:20220422T080000
DTEND;TZID=UTC:20220422T180000
DTSTAMP:20260423T135158
CREATED:20220329T101117Z
LAST-MODIFIED:20220330T154215Z
UID:12746-1650614400-1650650400@www.associazioneaifa.it
SUMMARY:1° Convegno AIFA Onlus Regione Liguria
DESCRIPTION:1° Convegno AIFA Onlus Regione Liguria\n“Aspetti clinici ed organizzativi dell’ADHD in età evolutiva e in età adulta: insorgenza del disturbo e risposta del Sistema Sanitario Regionale”\n\nGENOVA. 22 aprile 2022. AIFA Onlus\, Associazione Italiana Famiglie ADHD\, in collaborazione con il Centro Formazione Istituto Giannina Gaslini presenta il 1° Convegno AIFA Onlus Regione Liguria dal titolo “Aspetti clinici ed organizzativi dell’ADHD in età evolutiva e in età adulta: insorgenza del disturbo e risposta del Sistema Sanitario Regionale“. \nL’iniziativa\, aperta a professionisti e famiglie coinvolti nella tematica\, si svolgerà presso l’Aula Magna dell’Istituto Giannina Gaslini in Via Gaslini 5\, con fruizione in presenza o in modalità webinar. Gli obiettivi dell’evento gratuito\, rivolto ad una utenza specialistica e non (familiari di persone con ADHD\, insegnanti\, educatori\, psicologi\, neuropsichiatri e psichiatri\, medici di base e pediatri\, ecc.) sono la formazione e l’informazione sulle peculiarità della patologia e delle cure\, nonché la messa a fuoco della capacità responsiva del Sistema Sanitario Regionale\, tenendo conto dell’evoluzione legislativa e organizzativa in atto. \nIscrizioni on-line registrandosi al sito:\nhttps://centroformazione.gaslini.org/evento.php?IDE=325\nentro il 20 aprile 2022. Posti limitati a 200 via piattaforma + 90 in presenza. \nIl programma prevede i seguenti interventi: \n08:15 Registrazione dei partecipanti \n08:45 Benvenuto e presentazione Associazione Italiana Famiglie ADHD\nMonica Conversano – Referente Liguria e Vicepresidente AIFA Onlus – Genova; Lino Nobili – Responsabile Unità Operativa Complessa di Neuropsichiatria Infantile Istituto Giannina Gaslini – Genova; Brunello Brunetto – Consigliere Regionale della Liguria\, Presidente II commissione: salute e sicurezza sociale \n09:15 Breve introduzione generale alla sindrome e alla diagnosi; comorbilità\, modalità di intervento con o senza farmaco\nElisa De Grandis – Neuropsichiatra Infantile – IRCCS G. Gaslini – Genova \n09:45 Disturbi del sonno nell’ADHD origini e terapia\nLino Nobili – Responsabile Unità Operativa Complessa di Neuropsichiatria Infantile Istituto Giannina Gaslini – Genova \n10:15 ADHD e comorbilità con il Disturbo da dipendenza\nFabio Lugoboni – Direttore del Servizio di Medicina delle Dipendenze di Verona \n11:00 Interventi psicoterapeutici evidence-based nel bambino e adolescente\nDeborah Preiti – Psicoterapeuta – IRCCS G. Gaslini – Genova \n11:30 Rapporto scuola/famiglia e gestione compiti scolastici: la funzione del Parent Training e del Teacher Training nel periodo infantile e adolescenziale\nIlaria Carbone – Pedagogista – Centro ApprendiMente – Genova \n12:00 Come l’ADHD influisce sulle abilità sociali\nBenedetta Giagnorio – Psicologa e psicoterapeuta – Centro ApprendiMente – Genova \n14:00 Applicazione concreta della legislazione (PDP e PEI)\, dalla interpretazione della diagnosi all’applicazione dei decreti\nAvv. M. Riolfo – Consigliere Regionale della Liguria – Membro II commissione: salute e sicurezza sociale; membro V commissione: controlli\, verifica attuazione delle leggi\, pari opportunità \n14:30 L’ADHD in età evolutiva e in età adulta: diagnosi e terapie\, transizione dalle NPI ai CSM. Interventi dalle cinque ASL liguri sull’organizzazione nel Territorio: \n\nGiuseppe Pili – S. C. Neuropsichiatria infantile ASL1 Imperiese\,\nPaola Bona – S.S.D. Neuropsichiatria dell’Infanzia e dell’Adolescenza ASL2 Savonese\,\nDaniela Malagamba – Direttrice f.f. Salute mentale Distretto 8 ASL3 Genovese\,\nMonica Arcellaschi – Direttrice S.C. salute mentale e dipendenze ASL4 Chiavarese\,\nNatalina Aloise – Neuropsichiatra Infantile e dell’Adolescenza ASL5 Spezzina\,\nSandra Moretti – Psicologa ASL5 Spezzina.\n\n17:30 Questionario ECM e chiusura dei lavori. \nL’evento è patrocinato da ASL1\, ASL2\, ASL3\, ASL4\, ASL5\, Regione Liguria e Comune di Genova (in attesa di Patrocinio SINPIA). \nPer informazioni contattare:\nMonica Conversano\, referente.liguria@associazioneaifa.it – cell. 3496658925 \n\nScarica la brochure dell’evento \nScarica la locandina
URL:https://www.associazioneaifa.it/evento/1-convegno-aifa-onlus-regione-liguria/
LOCATION:Genova\, Piazza Manzoni\, 1\, Genova\, Italia
CATEGORIES:AIFA APS
ATTACH;FMTTYPE=image/jpeg:https://www.associazioneaifa.it/wp-content/uploads/2021/11/2022.04.22.locandina_1_convegno_regionale_aifa_liguria.jpg
END:VEVENT
END:VCALENDAR