BEGIN:VCALENDAR
VERSION:2.0
PRODID:-//Associazione AIFA - ECPv6.15.20//NONSGML v1.0//EN
CALSCALE:GREGORIAN
METHOD:PUBLISH
X-WR-CALNAME:Associazione AIFA
X-ORIGINAL-URL:https://www.associazioneaifa.it
X-WR-CALDESC:Eventi per Associazione AIFA
REFRESH-INTERVAL;VALUE=DURATION:PT1H
X-Robots-Tag:noindex
X-PUBLISHED-TTL:PT1H
BEGIN:VTIMEZONE
TZID:UTC
BEGIN:STANDARD
TZOFFSETFROM:+0000
TZOFFSETTO:+0000
TZNAME:UTC
DTSTART:20210101T000000
END:STANDARD
END:VTIMEZONE
BEGIN:VEVENT
DTSTART;TZID=UTC:20220410T103000
DTEND;TZID=UTC:20220410T200000
DTSTAMP:20260423T135217
CREATED:20220401T110119Z
LAST-MODIFIED:20220401T110210Z
UID:12778-1649586600-1649620800@www.associazioneaifa.it
SUMMARY:ADHD al parco
DESCRIPTION:GENOVA. Domenica 10 aprile 2022 è in programma il primo incontro di “ADHD al Parco” organizzato dal gruppo referenti liguri di AIFA Onlus – Associazione Italiana Famiglie ADHD – in collaborazione con APS Anima Mundi\, dalle ore 10:30 presso il Parco Storico Villa Duchessa di Galliera – Fattoria Casa Borromeo. \nL’obiettivo dell’evento\, rivolto ai bambini tra i 4 e i 13 anni accompagnati\, e a chiunque abbia il piacere di partecipare – soci AIFA Onlus e non – è principalmente quello di trascorrere una giornata in compagnia di tanti amici\, in un contesto ludico-creativo sul tema “I nostri amici animali”. \nOltre a seguire l’attività di intrattenimento\, presso il punto informativo nella “Fattoria Casa Borromeo” sarà possibile ricevere informazioni sull’ADHD\, Disturbo da Deficit di Attenzione e Iperattività\, e sulla Pet-Therapy\, intervento assistito con animali\, una pratica terapeutica dolce che si avvale dei benefici dell’interazione tra individuo ed animale. \nLa partecipazione è gratuita\, si consiglia di portare il pranzo al sacco. \nPrenotazione obbligatoria entro il 7 aprile e fino al raggiungimento dei posti disponibili scrivendo a Simona Zappia\, referente.genova2@associazioneaifa.it \n\nVisualizza la locandina
URL:https://www.associazioneaifa.it/evento/adhd-al-parco/
LOCATION:Villa Duchessa di Galliera\, Via Al Santuario delle Grazie\, Genova\, 16158\, Italia
ATTACH;FMTTYPE=image/jpeg:https://www.associazioneaifa.it/wp-content/uploads/2022/04/pexels-leah-kelley-325521.jpg
END:VEVENT
END:VCALENDAR