BEGIN:VCALENDAR
VERSION:2.0
PRODID:-//Associazione AIFA - ECPv6.15.20//NONSGML v1.0//EN
CALSCALE:GREGORIAN
METHOD:PUBLISH
X-WR-CALNAME:Associazione AIFA
X-ORIGINAL-URL:https://www.associazioneaifa.it
X-WR-CALDESC:Eventi per Associazione AIFA
REFRESH-INTERVAL;VALUE=DURATION:PT1H
X-Robots-Tag:noindex
X-PUBLISHED-TTL:PT1H
BEGIN:VTIMEZONE
TZID:UTC
BEGIN:STANDARD
TZOFFSETFROM:+0000
TZOFFSETTO:+0000
TZNAME:UTC
DTSTART:20210101T000000
END:STANDARD
END:VTIMEZONE
BEGIN:VEVENT
DTSTART;TZID=UTC:20220402T090000
DTEND;TZID=UTC:20220402T130000
DTSTAMP:20260423T135222
CREATED:20220301T170707Z
LAST-MODIFIED:20220331T095642Z
UID:12554-1648890000-1648904400@www.associazioneaifa.it
SUMMARY:ADHD - Disturbo da Deficit di Attenzione e Iperattività dall'infanzia all'età adulta - Focus particolare all’Adolescenza
DESCRIPTION:“ADHD – Disturbo da Deficit di Attenzione e Iperattività dall’infanzia all’età adulta – Focus particolare all’Adolescenza” è il titolo dell’evento informativo sull’ADHD organizzato da AIFA Lombardia APS – Associazione Italiana Famiglie ADHD\, in programma sabato 2 aprile 2022 dalle ore 9.00 alle ore 13.00 presso la Sala Congressi di Villa Raimondi della Fondazione Minoprio in Via Raimondi 54 a Vertemate con Minoprio in provincia di Como. \nÈ questo il secondo evento che si svolge in presenza ed è rivolto a docenti di ogni ordine e grado\, ad educatori e a chiunque sia coinvolto nella sfera educativa di bambini e ragazzi con ADHD\, nonché a genitori e parenti. \nL’iniziativa ha lo scopo di far conoscere meglio cos’è l’ADHD e di offrire una visione più ampia delle problematiche nella vita quotidiana scolastica familiare e sociale dei bambini\, dei ragazzi e delle famiglie che convivono con il Disturbo da Deficit di Attenzione e Iperattività. \nDopo una breve presentazione di AIFA Lombardia APS\, il programma prevede un’ampia panoramica sull’ADHD a cura di Davide Villani\, neuropsichiatra della ASST di Lecco. Seguono\, inoltre\, un intervento sulle Funzioni (oppure disfunzioni) esecutive dei minori con ADHD presentata da Veronica Aiani\, terapista della neuro- e psicomotricità ed un intervento sul ruolo importante dell’educatore\, soprattutto in ambiente familiare. Infine\, un’esposizione sul delicato passaggio dall’adolescenza all’età adulta a cura di Francesca Sgroi\, psicologa e collaboratrice AIFA Onlus. \nL’iniziativa è organizzata da AIFA Lombardia APS\, Associazione Italiana Famiglie ADHD\, l’ingresso è gratuito ma è indispensabile iscriversi per email a referente.lombardia@associazioneaifa.it inviando la scheda allegata. L’evento si svolgerà nel rispetto delle indicazioni nazionali anti Covid-19. \nPer informazioni: Meri Ferrario referente.como-lecco@associazioneaifa.it\, cel. 338.4804952\, oppure Astrid Gollner referente.lombardia@associazioneaifa.it cel. 338.5921605. \n\nScarica la locandina \nCompila la scheda di iscizione
URL:https://www.associazioneaifa.it/evento/adhd-e-adolescenza/
LOCATION:Vertemate con Minoprio\, Via Raimondi 54\, Vertemate con Minoprio\, CO\, Italia
CATEGORIES:AIFA APS
ATTACH;FMTTYPE=image/jpeg:https://www.associazioneaifa.it/wp-content/uploads/2022/02/adolescenti-cottonbro-scaled.jpg
END:VEVENT
END:VCALENDAR